Workbook

Sheet INSTRUCCIONS
A3: PROGRAMA COMUNARESS
A4: INSTRUCCIONS PRESSUPOST
A6: En aquest fitxer introduïu les dades del pressupost del projecte per àmbits i actuacions en funció de les entitats que l'executen.
A8: Disposeu de diferents fulls, seguiu l'ordre d'esquerra a dreta.
A10: Comenceu per el full anomenat "1 - DADES". En aquest heu de copiar les dades introduides en el full "1-ENTITATS " del document "FITXA-RESUM"
A11: per el que fa al nom de les persones beneficiaries, NIF i tipus de persona.
A12: Sinó empleneu aquestes dades no podreu seguir cumplimentant correctament la resta de fulls.
A14: En el full, " 2- Pressupost Àmbit A" , en cas de presentar actuacions dins d'aquest àmbit, les heu de reflexar. Escollint la entitat que dur a terme l'actuació,
A15: quina actuació i l'import pressupostat per a dur a terme aquesta.
A16: La resta de cel·les s'emplenen automaticament al anar omplint.
A18: En el full, " 3- Pressupost Àmbits B-J" , en cas de presentar actuacions dins d'aquests àmbits, les heu de reflexar. Escollint la entitat que dur a terme l'actuació,
A19: quina actuació i l'import pressupostat per a desenvolupar aquesta.
... A30: codi: G146NRMI-906-00

Sheet 1 - DADES
A3: PROGRAMA COMUNARESS
A4: DADES PROJECTE
C6: NOM PROJECTE
C7: ENTITAT SOL·LICITANT
C8: NIF
C9: Àmbit principal del projecte
C12: NOM ENTITAT o PERSONA FÍSICA ( teniu aquesta relació en la Fitxa Resum ) | D12: NIF / NIE ENTITAT o PERSONA FISICA | E12: TIPUS DE PERSONA
B13: 1
B14: 2
B15: 3
B16: 4
B17: 5
B18: 6
B19: 7
B20: 8
B21: 9
B22: 10
B23: 11
B24: 12
... B32: 20

Sheet 2 - PRESSUPOST ÀMBIT A 
A2: PRESSUPOST PROJECTES ÀMBIT A-) COMUNARESS
A4: ENTITAT SOL·LICITANT | B4: =IF('1 - DADES'!$D$7=0,"",'1 - DADES'!$D$7) | E4: NIF | F4: =IF('1 - DADES'!$D$8=0,"",'1 - DADES'!$D$8)
A5: NOM DEL PROJECTE | B5: =IF('1 - DADES'!$D$6=0,"",'1 - DADES'!$D$6)
A7: ESTEU PRESENTANT UN PRESSUPOST PER PROJECTE, TINGUEU PRESENT LA TEMPORALITAT D'AQUEST.
A8: ENTITATS | B8: ACTUACIONS | C8: Remuneracions Personal | D8: Desplaçaments | E8: Lloguer Iinstal·lacions desenvolupar projecte | F8: Material i serveis de les activitats | G8: Material, publicitat i comunicació difusió projecte | H8: Tallers, actes i sessions | I8: Primes d’assegurances | J8: Import IVA Suportat i no recuperable | K8: Indirectes (màxim 15%) | L8: Inversions Mobiliari, Equipaments, programari, vehicles... | M8: Informe de l’auditor | N8: Altres despeses necessàries | O8: Import total | P8: Import cofinançament | Q8: Import subvenció sol·licitada
A9: Escolliu l'entitat que realitza l'actuació | B9: Trieu l'actuació que es realitza
C10: 0 | D10: 0 | E10: 0 | F10: 0 | G10: 0 | H10: 0 | I10: 0 | J10: 0 | K10: 0 | L10: 0 | M10: 0 | N10: 0 | O10: =SUM(C10:N10) -> 0 | P10: 0 | Q10: =O10-P10 -> 0
C11: 0 | D11: 0 | E11: 0 | F11: 0 | G11: 0 | H11: 0 | I11: 0 | J11: 0 | K11: 0 | L11: 0 | M11: 0 | N11: 0 | O11: =SUM(C11:N11) -> 0 | P11: 0 | Q11: =O11-P11 -> 0
C12: 0 | D12: 0 | E12: 0 | F12: 0 | G12: 0 | H12: 0 | I12: 0 | J12: 0 | K12: 0 | L12: 0 | M12: 0 | N12: 0 | O12: =SUM(C12:N12) -> 0 | P12: 0 | Q12: =O12-P12 -> 0
C13: 0 | D13: 0 | E13: 0 | F13: 0 | G13: 0 | H13: 0 | I13: 0 | J13: 0 | K13: 0 | L13: 0 | M13: 0 | N13: 0 | O13: =SUM(C13:N13) -> 0 | P13: 0 | Q13: =O13-P13 -> 0
C14: 0 | D14: 0 | E14: 0 | F14: 0 | G14: 0 | H14: 0 | I14: 0 | J14: 0 | K14: 0 | L14: 0 | M14: 0 | N14: 0 | O14: =SUM(C14:N14) -> 0 | P14: 0 | Q14: =O14-P14 -> 0
C15: 0 | D15: 0 | E15: 0 | F15: 0 | G15: 0 | H15: 0 | I15: 0 | J15: 0 | K15: 0 | L15: 0 | M15: 0 | N15: 0 | O15: =SUM(C15:N15) -> 0 | P15: 0 | Q15: =O15-P15 -> 0
C16: 0 | D16: 0 | E16: 0 | F16: 0 | G16: 0 | H16: 0 | I16: 0 | J16: 0 | K16: 0 | L16: 0 | M16: 0 | N16: 0 | O16: =SUM(C16:N16) -> 0 | P16: 0 | Q16: =O16-P16 -> 0
C17: 0 | D17: 0 | E17: 0 | F17: 0 | G17: 0 | H17: 0 | I17: 0 | J17: 0 | K17: 0 | L17: 0 | M17: 0 | N17: 0 | O17: =SUM(C17:N17) -> 0 | P17: 0 | Q17: =O17-P17 -> 0
C18: 0 | D18: 0 | E18: 0 | F18: 0 | G18: 0 | H18: 0 | I18: 0 | J18: 0 | K18: 0 | L18: 0 | M18: 0 | N18: 0 | O18: =SUM(C18:N18) -> 0 | P18: 0 | Q18: =O18-P18 -> 0
C19: 0 | D19: 0 | E19: 0 | F19: 0 | G19: 0 | H19: 0 | I19: 0 | J19: 0 | K19: 0 | L19: 0 | M19: 0 | N19: 0 | O19: =SUM(C19:N19) -> 0 | P19: 0 | Q19: =O19-P19 -> 0
C20: 0 | D20: 0 | E20: 0 | F20: 0 | G20: 0 | H20: 0 | I20: 0 | J20: 0 | K20: 0 | L20: 0 | M20: 0 | N20: 0 | O20: =SUM(C20:N20) -> 0 | P20: 0 | Q20: =O20-P20 -> 0
C21: 0 | D21: 0 | E21: 0 | F21: 0 | G21: 0 | H21: 0 | I21: 0 | J21: 0 | K21: 0 | L21: 0 | M21: 0 | N21: 0 | O21: =SUM(C21:N21) -> 0 | P21: 0 | Q21: =O21-P21 -> 0
... C40: 0 | D40: 0 | E40: 0 | F40: 0 | G40: 0 | H40: 0 | I40: 0 | J40: 0 | K40: 0 | L40: 0 | M40: 0 | N40: 0 | O40: =SUM(C40:N40) -> 0 | P40: 0 | Q40: =O40-P40 -> 0
B41: IMPORT TOTAL ÀMBIT A | C41: =SUM(C10:C40) -> 0 | D41: =SUM(D10:D40) -> 0 | E41: =SUM(E10:E40) -> 0 | F41: =SUM(F10:F40) -> 0 | G41: =SUM(G10:G40) -> 0 | H41: =SUM(H10:H40) -> 0 | I41: =SUM(I10:I40) -> 0 | J41: =SUM(J10:J40) -> 0 | ... Q41: =SUM(Q10:Q40) -> 0
Q42: assegureu-vos que aquest import coincideix amb l'import de la sol·licitud

Sheet 3 -PRESSUPOST ÀMBITS B-J
A2: PRESSUPOST PROJECTES ALTRES ÀMBITS B-J ) COMUNARESS
A4: ENTITAT SOL·LICITANT | B4: =IF('1 - DADES'!$D$7=0,"",'1 - DADES'!$D$7) | E4: NIF | F4: =IF('1 - DADES'!$D$8=0,"",'1 - DADES'!$D$8)
A5: NOM DEL PROJECTE | B5: =IF('1 - DADES'!$D$6=0,"",'1 - DADES'!$D$6)
A6: ÀMBIT PRINCIPAL DEL PROJECTE | B6: =IF('1 - DADES'!$D$9=0,"",'1 - DADES'!$D$9)
A8: ESTEU PRESENTANT UN PRESSUPOST PER PROJECTE, TINGUEU PRESENT LA TEMPORALITAT D'AQUEST.
A9: ENTITATS | B9: ACTUACIONS | C9: Remuneracions Personal | D9: Desplaçaments | E9: Lloguer Iinstal·lacions desenvolupar projecte | F9: Material i serveis de les activitats | G9: Material, publicitat i comunicació difusió projecte | H9: Tallers, actes i sessions | I9: Primes d’assegurances | J9: Import IVA Suportat i no recuperable | K9: Indirectes (màxim 15%) | L9: Inversions Mobiliari, Equipaments, programari, vehicles... | M9: Informe de l’auditor | N9: Altres despeses necessàries | O9: Import total | P9: Import cofinançament | Q9: Import subvenció sol·licitada
A10: Escolliu l'entitat que realitza l'actuació | B10: Trieu l'actuació que es realitza
C11: 0 | D11: 0 | E11: 0 | F11: 0 | G11: 0 | H11: 0 | I11: 0 | J11: 0 | K11: 0 | L11: 0 | M11: 0 | N11: 0 | O11: =SUM(C11:N11) -> 0 | P11: 0 | Q11: =O11-P11 -> 0
C12: 0 | D12: 0 | E12: 0 | F12: 0 | G12: 0 | H12: 0 | I12: 0 | J12: 0 | K12: 0 | L12: 0 | M12: 0 | N12: 0 | O12: =SUM(C12:N12) -> 0 | P12: 0 | Q12: =O12-P12 -> 0
C13: 0 | D13: 0 | E13: 0 | F13: 0 | G13: 0 | H13: 0 | I13: 0 | J13: 0 | K13: 0 | L13: 0 | M13: 0 | N13: 0 | O13: =SUM(C13:N13) -> 0 | P13: 0 | Q13: =O13-P13 -> 0
C14: 0 | D14: 0 | E14: 0 | F14: 0 | G14: 0 | H14: 0 | I14: 0 | J14: 0 | K14: 0 | L14: 0 | M14: 0 | N14: 0 | O14: =SUM(C14:N14) -> 0 | P14: 0 | Q14: =O14-P14 -> 0
C15: 0 | D15: 0 | E15: 0 | F15: 0 | G15: 0 | H15: 0 | I15: 0 | J15: 0 | K15: 0 | L15: 0 | M15: 0 | N15: 0 | O15: =SUM(C15:N15) -> 0 | P15: 0 | Q15: =O15-P15 -> 0
C16: 0 | D16: 0 | E16: 0 | F16: 0 | G16: 0 | H16: 0 | I16: 0 | J16: 0 | K16: 0 | L16: 0 | M16: 0 | N16: 0 | O16: =SUM(C16:N16) -> 0 | P16: 0 | Q16: =O16-P16 -> 0
C17: 0 | D17: 0 | E17: 0 | F17: 0 | G17: 0 | H17: 0 | I17: 0 | J17: 0 | K17: 0 | L17: 0 | M17: 0 | N17: 0 | O17: =SUM(C17:N17) -> 0 | P17: 0 | Q17: =O17-P17 -> 0
C18: 0 | D18: 0 | E18: 0 | F18: 0 | G18: 0 | H18: 0 | I18: 0 | J18: 0 | K18: 0 | L18: 0 | M18: 0 | N18: 0 | O18: =SUM(C18:N18) -> 0 | P18: 0 | Q18: =O18-P18 -> 0
C19: 0 | D19: 0 | E19: 0 | F19: 0 | G19: 0 | H19: 0 | I19: 0 | J19: 0 | K19: 0 | L19: 0 | M19: 0 | N19: 0 | O19: =SUM(C19:N19) -> 0 | P19: 0 | Q19: =O19-P19 -> 0
C20: 0 | D20: 0 | E20: 0 | F20: 0 | G20: 0 | H20: 0 | I20: 0 | J20: 0 | K20: 0 | L20: 0 | M20: 0 | N20: 0 | O20: =SUM(C20:N20) -> 0 | P20: 0 | Q20: =O20-P20 -> 0
C21: 0 | D21: 0 | E21: 0 | F21: 0 | G21: 0 | H21: 0 | I21: 0 | J21: 0 | K21: 0 | L21: 0 | M21: 0 | N21: 0 | O21: =SUM(C21:N21) -> 0 | P21: 0 | Q21: =O21-P21 -> 0
C22: 0 | D22: 0 | E22: 0 | F22: 0 | G22: 0 | H22: 0 | I22: 0 | J22: 0 | K22: 0 | L22: 0 | M22: 0 | N22: 0 | O22: =SUM(C22:N22) -> 0 | P22: 0 | Q22: =O22-P22 -> 0
... C40: 0 | D40: 0 | E40: 0 | F40: 0 | G40: 0 | H40: 0 | I40: 0 | J40: 0 | K40: 0 | L40: 0 | M40: 0 | N40: 0 | O40: =SUM(C40:N40) -> 0 | P40: 0 | Q40: =O40-P40 -> 0
B41: IMPORT TOTAL ÀMBITS B-J | C41: =SUM(C11:C40) -> 0 | D41: =SUM(D11:D40) -> 0 | E41: =SUM(E11:E40) -> 0 | F41: =SUM(F11:F40) -> 0 | G41: =SUM(G11:G40) -> 0 | H41: =SUM(H11:H40) -> 0 | I41: =SUM(I11:I40) -> 0 | J41: =SUM(J11:J40) -> 0 | ... Q41: =SUM(Q11:Q40) -> 0
Q42: assegureu-vos que aquest import coincideix amb l'import de la sol·licitud

Sheet 4 -TOTAL PRESSUPOST
A2: PRESSUPOST PROJECTES COMUNARESS | D2: codi: G146NRMI-906-00
A4: ENTITAT SOL·LICITANT | B4: =IF('1 - DADES'!$D$7=0,"",'1 - DADES'!$D$7) | E4: NIF | F4: =IF('1 - DADES'!$D$8=0,"",'1 - DADES'!$D$8)
A5: NOM DEL PROJECTE | B5: =IF('1 - DADES'!$D$6=0,"",'1 - DADES'!$D$6)
A6: ÀMBIT PRINCIPAL DEL PROJECTE | B6: =IF('1 - DADES'!$D$9=0,"",'1 - DADES'!$D$9)
A8: AQUESTA PESTANYA S'AUTOOMPLE AMB LES DADES DELS ALTRES DOS FULLS ( SUMA AMBDUES )
A9: ACTUACIÓ | B9: ENTITAT | C9: Remuneracions Personal | D9: Desplaçaments | E9: Lloguer Iinstal·lacions desenvolupar projecte | F9: Material i serveis de les activitats | G9: Material, publicitat i comunicació difusió projecte | H9: Tallers, actes i sessions | I9: Primes d’assegurances | J9: Import IVA Suportat i no recuperable | K9: Indirectes (màxim 15%) | L9: Inversions Mobiliari, Equipaments, programari, vehicles... | M9: Informe de l’auditor | N9: Altres despeses necessàries | O9: Import total | P9: Import cofinançament | Q9: Import subvenció sol·licitada
B10: Escolliu l'entitat que realitza l'actuació
A11: Formació i dinamització per a les persones participants en el projecte i les destinàtaries finals d'aquest. | C11: 0 | D11: 0 | E11: 0 | F11: 0 | G11: 0 | H11: 0 | I11: 0 | J11: 0 | K11: 0 | L11: 0 | M11: 0 | N11: 0 | O11: =SUM(C11:N11) -> 0 | P11: 0 | Q11: =O11-P11 -> 0
C12: 0 | D12: 0 | E12: 0 | F12: 0 | G12: 0 | H12: 0 | I12: 0 | J12: 0 | K12: 0 | L12: 0 | M12: 0 | N12: 0 | O12: =SUM(C12:N12) -> 0 | P12: 0 | Q12: =O12-P12 -> 0
C13: 0 | D13: 0 | E13: 0 | F13: 0 | G13: 0 | H13: 0 | I13: 0 | J13: 0 | K13: 0 | L13: 0 | M13: 0 | N13: 0 | O13: =SUM(C13:N13) -> 0 | P13: 0 | Q13: =O13-P13 -> 0
C14: 0 | D14: 0 | E14: 0 | F14: 0 | G14: 0 | H14: 0 | I14: 0 | J14: 0 | K14: 0 | L14: 0 | M14: 0 | N14: 0 | O14: =SUM(C14:N14) -> 0 | P14: 0 | Q14: =O14-P14 -> 0
C15: 0 | D15: 0 | E15: 0 | F15: 0 | G15: 0 | H15: 0 | I15: 0 | J15: 0 | K15: 0 | L15: 0 | M15: 0 | N15: 0 | O15: =SUM(C15:N15) -> 0 | P15: 0 | Q15: =O15-P15 -> 0
A16: Campanyes de comunicació, promoció i difusió. | C16: 0 | D16: 0 | E16: 0 | F16: 0 | G16: 0 | H16: 0 | I16: 0 | J16: 0 | K16: 0 | L16: 0 | M16: 0 | N16: 0 | O16: =SUM(C16:N16) -> 0 | P16: 0 | Q16: =O16-P16 -> 0
C17: 0 | D17: 0 | E17: 0 | F17: 0 | G17: 0 | H17: 0 | I17: 0 | J17: 0 | K17: 0 | L17: 0 | M17: 0 | N17: 0 | O17: =SUM(C17:N17) -> 0 | P17: 0 | Q17: =O17-P17 -> 0
C18: 0 | D18: 0 | E18: 0 | F18: 0 | G18: 0 | H18: 0 | I18: 0 | J18: 0 | K18: 0 | L18: 0 | M18: 0 | N18: 0 | O18: =SUM(C18:N18) -> 0 | P18: 0 | Q18: =O18-P18 -> 0
C19: 0 | D19: 0 | E19: 0 | F19: 0 | G19: 0 | H19: 0 | I19: 0 | J19: 0 | K19: 0 | L19: 0 | M19: 0 | N19: 0 | O19: =SUM(C19:N19) -> 0 | P19: 0 | Q19: =O19-P19 -> 0
C20: 0 | D20: 0 | E20: 0 | F20: 0 | G20: 0 | H20: 0 | I20: 0 | J20: 0 | K20: 0 | L20: 0 | M20: 0 | N20: 0 | O20: =SUM(C20:N20) -> 0 | P20: 0 | Q20: =O20-P20 -> 0
A21: Accions de senzibilització o dinamització en l'entorn d'incidència. | C21: 0 | D21: 0 | E21: 0 | F21: 0 | G21: 0 | H21: 0 | I21: 0 | J21: 0 | K21: 0 | L21: 0 | M21: 0 | N21: 0 | O21: =SUM(C21:N21) -> 0 | P21: 0 | Q21: =O21-P21 -> 0
C22: 0 | D22: 0 | E22: 0 | F22: 0 | G22: 0 | H22: 0 | I22: 0 | J22: 0 | K22: 0 | L22: 0 | M22: 0 | N22: 0 | O22: =SUM(C22:N22) -> 0 | P22: 0 | Q22: =O22-P22 -> 0
C23: 0 | D23: 0 | E23: 0 | F23: 0 | G23: 0 | H23: 0 | I23: 0 | J23: 0 | K23: 0 | L23: 0 | M23: 0 | N23: 0 | O23: =SUM(C23:N23) -> 0 | P23: 0 | Q23: =O23-P23 -> 0
C24: 0 | D24: 0 | E24: 0 | F24: 0 | G24: 0 | H24: 0 | I24: 0 | J24: 0 | K24: 0 | L24: 0 | M24: 0 | N24: 0 | O24: =SUM(C24:N24) -> 0 | P24: 0 | Q24: =O24-P24 -> 0
C25: 0 | D25: 0 | E25: 0 | F25: 0 | G25: 0 | H25: 0 | I25: 0 | J25: 0 | K25: 0 | L25: 0 | M25: 0 | N25: 0 | O25: =SUM(C25:N25) -> 0 | P25: 0 | Q25: =O25-P25 -> 0
A26: Iniciatives, productes i serveis que cobreixin necessitats de les persones benificiàries. | C26: 0 | D26: 0 | E26: 0 | F26: 0 | G26: 0 | H26: 0 | I26: 0 | J26: 0 | K26: 0 | L26: 0 | M26: 0 | N26: 0 | O26: =SUM(C26:N26) -> 0 | P26: 0 | Q26: =O26-P26 -> 0
C27: 0 | D27: 0 | E27: 0 | F27: 0 | G27: 0 | H27: 0 | I27: 0 | J27: 0 | K27: 0 | L27: 0 | M27: 0 | N27: 0 | O27: =SUM(C27:N27) -> 0 | P27: 0 | Q27: =O27-P27 -> 0
C28: 0 | D28: 0 | E28: 0 | F28: 0 | G28: 0 | H28: 0 | I28: 0 | J28: 0 | K28: 0 | L28: 0 | M28: 0 | N28: 0 | O28: =SUM(C28:N28) -> 0 | P28: 0 | Q28: =O28-P28 -> 0
C29: 0 | D29: 0 | E29: 0 | F29: 0 | G29: 0 | H29: 0 | I29: 0 | J29: 0 | K29: 0 | L29: 0 | M29: 0 | N29: 0 | O29: =SUM(C29:N29) -> 0 | P29: 0 | Q29: =O29-P29 -> 0
C30: 0 | D30: 0 | E30: 0 | F30: 0 | G30: 0 | H30: 0 | I30: 0 | J30: 0 | K30: 0 | L30: 0 | M30: 0 | N30: 0 | O30: =SUM(C30:N30) -> 0 | P30: 0 | Q30: =O30-P30 -> 0
A31: Obertura de nous punts d'aprovisionament o d'intercanvi o d'adaptació dels ja existents, | C31: 0 | D31: 0 | E31: 0 | F31: 0 | G31: 0 | H31: 0 | I31: 0 | J31: 0 | K31: 0 | L31: 0 | M31: 0 | N31: 0 | O31: =SUM(C31:N31) -> 0 | P31: 0 | Q31: =O31-P31 -> 0
C32: 0 | D32: 0 | E32: 0 | F32: 0 | G32: 0 | H32: 0 | I32: 0 | J32: 0 | K32: 0 | L32: 0 | M32: 0 | N32: 0 | O32: =SUM(C32:N32) -> 0 | P32: 0 | Q32: =O32-P32 -> 0
C33: 0 | D33: 0 | E33: 0 | F33: 0 | G33: 0 | H33: 0 | I33: 0 | J33: 0 | K33: 0 | L33: 0 | M33: 0 | N33: 0 | O33: =SUM(C33:N33) -> 0 | P33: 0 | Q33: =O33-P33 -> 0
C34: 0 | D34: 0 | E34: 0 | F34: 0 | G34: 0 | H34: 0 | I34: 0 | J34: 0 | K34: 0 | L34: 0 | M34: 0 | N34: 0 | O34: =SUM(C34:N34) -> 0 | P34: 0 | Q34: =O34-P34 -> 0
C35: 0 | D35: 0 | E35: 0 | F35: 0 | G35: 0 | H35: 0 | I35: 0 | J35: 0 | K35: 0 | L35: 0 | M35: 0 | N35: 0 | O35: =SUM(C35:N35) -> 0 | P35: 0 | Q35: =O35-P35 -> 0
A36: Accions que fomentin la trobada intercultural, la relació i l'intercanvi d'experiències. | C36: 0 | D36: 0 | E36: 0 | F36: 0 | G36: 0 | H36: 0 | I36: 0 | J36: 0 | K36: 0 | L36: 0 | M36: 0 | N36: 0 | O36: =SUM(C36:N36) -> 0 | P36: 0 | Q36: =O36-P36 -> 0
C37: 0 | D37: 0 | E37: 0 | F37: 0 | G37: 0 | H37: 0 | I37: 0 | J37: 0 | K37: 0 | L37: 0 | M37: 0 | N37: 0 | O37: =SUM(C37:N37) -> 0 | P37: 0 | Q37: =O37-P37 -> 0
C38: 0 | D38: 0 | E38: 0 | F38: 0 | G38: 0 | H38: 0 | I38: 0 | J38: 0 | K38: 0 | L38: 0 | M38: 0 | N38: 0 | O38: =SUM(C38:N38) -> 0 | P38: 0 | Q38: =O38-P38 -> 0
C39: 0 | D39: 0 | E39: 0 | F39: 0 | G39: 0 | H39: 0 | I39: 0 | J39: 0 | K39: 0 | L39: 0 | M39: 0 | N39: 0 | O39: =SUM(C39:N39) -> 0 | P39: 0 | Q39: =O39-P39 -> 0
C40: 0 | D40: 0 | E40: 0 | F40: 0 | G40: 0 | H40: 0 | I40: 0 | J40: 0 | K40: 0 | L40: 0 | M40: 0 | N40: 0 | O40: =SUM(C40:N40) -> 0 | P40: 0 | Q40: =O40-P40 -> 0
A41: Adquisició d'estocs i altres materials necessaris. | C41: 0 | D41: 0 | E41: 0 | F41: 0 | G41: 0 | H41: 0 | I41: 0 | J41: 0 | K41: 0 | L41: 0 | M41: 0 | N41: 0 | O41: =SUM(C41:N41) -> 0 | P41: 0 | Q41: =O41-P41 -> 0
C42: 0 | D42: 0 | E42: 0 | F42: 0 | G42: 0 | H42: 0 | I42: 0 | J42: 0 | K42: 0 | L42: 0 | M42: 0 | N42: 0 | O42: =SUM(C42:N42) -> 0 | P42: 0 | Q42: =O42-P42 -> 0
C43: 0 | D43: 0 | E43: 0 | F43: 0 | G43: 0 | H43: 0 | I43: 0 | J43: 0 | K43: 0 | L43: 0 | M43: 0 | N43: 0 | O43: =SUM(C43:N43) -> 0 | P43: 0 | Q43: =O43-P43 -> 0
...

Sheet Desplegables
B2: ÀMBITS | E2: ACTUACIONS
B3: Grups de consum agroecològic o grups de consum responsable autoorganitzats | E3: Formació i dinamització per a les persones participants en el projecte i les destinàtaries finals d'aquest. | G3: Persona o entitat Representant
B4: Xarxes i mercats intercanvi de béns, físics o virtuals, sense intercanvi monetari | E4: Campanyes de comunicació, promoció i difusió. | G4: Persona o entitat Membre de l'Agrupació
B5: Intercanvi de serveis, coneixements, aprenentatge com bancs del temps o sistemes de suport escolar | E5: Accions de senzibilització o dinamització en l'entorn d'incidència.
B6: Horts i jardins comunitaris | E6: Iniciatives, productes i serveis que cobreixin necessitats de les persones benificiàries.
B7: Xarxes de solidaritat, suport mutu i cures autoorganitzades | E7: Obertura de nous punts d'aprovisionament o d'intercanvi o d'adaptació dels ja existents,
B8: Aprofitament d’espais i infraestructures de titularitat pública | E8: Accions que fomentin la trobada intercultural, la relació i l'intercanvi d'experiències.
B9: Xarxes de solidaritat, suport mutu i cures autoorganitzades Mitjans de comunicació o difusió autogestionats. | E9: Adquisició d'estocs i altres materials necessaris.
B10: Grups de criança compartida | E10: Petites accions d'adequació, rehabilitació,obra i manteniment de locals.
B11: Educació comunitària | E11: Adquisició de màquinaria i altres bèns d'equipament, bèns de consum o d'inversió.
B12: Cultura comunitària | E12: Contractació dels serveis necessaris per a l'execució i la gestió de les iniciatives.
E13: Lloguer de locals per al desenvolupament de les iniciatives.
E14: Contractació de personal que participi en els treballs del projecte, o que compleixi tasques en la seva elaboració, execució, desenvolupament o seguiment.
B15: Demarcacions territorials
B16: Regió Alt Pirineu i Aran
B17: Barcelona Ciutat
B18: Baix Llobregat
B19: Barcelona Nord
B20: Maresme
B21: Vallès Occidental
B22: Vallès Oriental
B23: L'Hospitalet de Llobregat
B24: Regió Catalunya Central
B25: Regió Penedès, Anoia i Garraf
B26: Regió Girona
... B29: Terres de l'Ebre
