Workbook

Sheet INSTRUCCIONS
A3: PROGRAMA COMUNARESS
A4: INSTRUCCIONS PRESSUPOST
A6: En aquest fitxer introduïu les dades del pressupost del projecte per àmbits i actuacions en funció de les entitats que l'executen.
A8: Disposeu de diferents fulls, seguiu l'ordre d'esquerra a dreta.
A10: Comenceu per el full anomenat "1 - DADES". En aquest heu de copiar les dades introduides en el full "1-ENTITATS " del document "FITXA-RESUM"
A11: per el que fa al nom de les persones beneficiaries, NIF i tipus de persona.
A12: Sinó empleneu aquestes dades no podreu seguir cumplimentant correctament la resta de fulls.
A14: En el full, " 2- Pressupost Àmbit A" , en cas de presentar actuacions dins d'aquest àmbit, les heu de reflexar. Escollint la entitat que dur a terme l'actuació,
A15: quina actuació i l'import pressupostat per a dur a terme aquesta.
A16: La resta de cel·les s'emplenen automaticament al anar omplint.
A18: En el full, " 3- Pressupost Àmbits B-J" , en cas de presentar actuacions dins d'aquests àmbits, les heu de reflexar. Escollint la entitat que dur a terme l'actuació,
A19: quina actuació i l'import pressupostat per a desenvolupar aquesta.
... A30: codi: G146NRMI-906-00

Sheet 1 - DADES
A3: PROGRAMA COMUNARESS
A4: DADES PROJECTE
C6: NOM PROJECTE
C7: ENTITAT SOL·LICITANT
C8: NIF
C9: Àmbit principal del projecte
C12: NOM ENTITAT o PERSONA FÍSICA ( teniu aquesta relació en la Fitxa Resum ) | D12: NIF / NIE ENTITAT o PERSONA FISICA | E12: TIPUS DE PERSONA
B13: 1
B14: 2
B15: 3
B16: 4
B17: 5
B18: 6
B19: 7
B20: 8
B21: 9
B22: 10
B23: 11
B24: 12
... B32: 20

Sheet 2 - PRESSUPOST ÀMBIT A 
A2: PRESSUPOST PROJECTES ÀMBIT A-) COMUNARESS
A4: ENTITAT SOL·LICITANT | B4: =IF('1 - DADES'!$D$7=0,"",'1 - DADES'!$D$7) | E4: NIF | F4: =IF('1 - DADES'!$D$8=0,"",'1 - DADES'!$D$8)
A5: NOM DEL PROJECTE | B5: =IF('1 - DADES'!$D$6=0,"",'1 - DADES'!$D$6)
A7: ESTEU PRESENTANT UN PRESSUPOST PER PROJECTE, TINGUEU PRESENT LA TEMPORALITAT D'AQUEST.
A8: ENTITATS | B8: ACTUACIONS | C8: Remuneracions Personal | D8: Desplaçaments | E8: Lloguer Iinstal·lacions desenvolupar projecte | F8: Material i serveis de les activitats | G8: Material, publicitat i comunicació difusió projecte | H8: Tallers, actes i sessions | I8: Primes d’assegurances | J8: Import IVA Suportat i no recuperable | K8: Indirectes (màxim 15%) | L8: Inversions Mobiliari, Equipaments, programari, vehicles... | M8: Informe de l’auditor | N8: Altres despeses necessàries | O8: Import total | P8: Import cofinançament | Q8: Import subvenció sol·licitada
A9: Escolliu l'entitat que realitza l'actuació | B9: Trieu l'actuació que es realitza
C10: 0 | D10: 0 | E10: 0 | F10: 0 | G10: 0 | H10: 0 | I10: 0 | J10: 0 | K10: 0 | L10: 0 | M10: 0 | N10: 0 | O10: =SUM(C10:N10) -> 0 | P10: 0 | Q10: =O10-P10 -> 0
C11: 0 | D11: 0 | E11: 0 | F11: 0 | G11: 0 | H11: 0 | I11: 0 | J11: 0 | K11: 0 | L11: 0 | M11: 0 | N11: 0 | O11: =SUM(C11:N11) -> 0 | P11: 0 | Q11: =O11-P11 -> 0
C12: 0 | D12: 0 | E12: 0 | F12: 0 | G12: 0 | H12: 0 | I12: 0 | J12: 0 | K12: 0 | L12: 0 | M12: 0 | N12: 0 | O12: =SUM(C12:N12) -> 0 | P12: 0 | Q12: =O12-P12 -> 0
C13: 0 | D13: 0 | E13: 0 | F13: 0 | G13: 0 | H13: 0 | I13: 0 | J13: 0 | K13: 0 | L13: 0 | M13: 0 | N13: 0 | O13: =SUM(C13:N13) -> 0 | P13: 0 | Q13: =O13-P13 -> 0
C14: 0 | D14: 0 | E14: 0 | F14: 0 | G14: 0 | H14: 0 | I14: 0 | J14: 0 | K14: 0 | L14: 0 | M14: 0 | N14: 0 | O14: =SUM(C14:N14) -> 0 | P14: 0 | Q14: =O14-P14 -> 0
C15: 0 | D15: 0 | E15: 0 | F15: 0 | G15: 0 | H15: 0 | I15: 0 | J15: 0 | K15: 0 | L15: 0 | M15: 0 | N15: 0 | O15: =SUM(C15:N15) -> 0 | P15: 0 | Q15: =O15-P15 -> 0
C16: 0 | D16: 0 | E16: 0 | F16: 0 | G16: 0 | H16: 0 | I16: 0 | J16: 0 | K16: 0 | L16: 0 | M16: 0 | N16: 0 | O16: =SUM(C16:N16) -> 0 | P16: 0 | Q16: =O16-P16 -> 0
C17: 0 | D17: 0 | E17: 0 | F17: 0 | G17: 0 | H17: 0 | I17: 0 | J17: 0 | K17: 0 | L17: 0 | M17: 0 | N17: 0 | O17: =SUM(C17:N17) -> 0 | P17: 0 | Q17: =O17-P17 -> 0
C18: 0 | D18: 0 | E18: 0 | F18: 0 | G18: 0 | H18: 0 | I18: 0 | J18: 0 | K18: 0 | L18: 0 | M18: 0 | N18: 0 | O18: =SUM(C18:N18) -> 0 | P18: 0 | Q18: =O18-P18 -> 0
C19: 0 | D19: 0 | E19: 0 | F19: 0 | G19: 0 | H19: 0 | I19: 0 | J19: 0 | K19: 0 | L19: 0 | M19: 0 | N19: 0 | O19: =SUM(C19:N19) -> 0 | P19: 0 | Q19: =O19-P19 -> 0
C20: 0 | D20: 0 | E20: 0 | F20: 0 | G20: 0 | H20: 0 | I20: 0 | J20: 0 | K20: 0 | L20: 0 | M20: 0 | N20: 0 | O20: =SUM(C20:N20) -> 0 | P20: 0 | Q20: =O20-P20 -> 0
C21: 0 | D21: 0 | E21: 0 | F21: 0 | G21: 0 | H21: 0 | I21: 0 | J21: 0 | K21: 0 | L21: 0 | M21: 0 | N21: 0 | O21: =SUM(C21:N21) -> 0 | P21: 0 | Q21: =O21-P21 -> 0
... C40: 0 | D40: 0 | E40: 0 | F40: 0 | G40: 0 | H40: 0 | I40: 0 | J40: 0 | K40: 0 | L40: 0 | M40: 0 | N40: 0 | O40: =SUM(C40:N40) -> 0 | P40: 0 | Q40: =O40-P40 -> 0
B41: IMPORT TOTAL ÀMBIT A | C41: =SUM(C10:C40) -> 0 | D41: =SUM(D10:D40) -> 0 | E41: =SUM(E10:E40) -> 0 | F41: =SUM(F10:F40) -> 0 | G41: =SUM(G10:G40) -> 0 | H41: =SUM(H10:H40) -> 0 | I41: =SUM(I10:I40) -> 0 | J41: =SUM(J10:J40) -> 0 | ... Q41: =SUM(Q10:Q40) -> 0
Q42: assegureu-vos que aquest import coincideix amb l'import de la sol·licitud

Sheet 3 -PRESSUPOST ÀMBITS B-J
A2: PRESSUPOST PROJECTES ALTRES ÀMBITS B-J ) COMUNARESS
A4: ENTITAT SOL·LICITANT | B4: =IF('1 - DADES'!$D$7=0,"",'1 - DADES'!$D$7) | E4: NIF | F4: =IF('1 - DADES'!$D$8=0,"",'1 - DADES'!$D$8)
A5: NOM DEL PROJECTE | B5: =IF('1 - DADES'!$D$6=0,"",'1 - DADES'!$D$6)
A6: ÀMBIT PRINCIPAL DEL PROJECTE | B6: =IF('1 - DADES'!$D$9=0,"",'1 - DADES'!$D$9)
A8: ESTEU PRESENTANT UN PRESSUPOST PER PROJECTE, TINGUEU PRESENT LA TEMPORALITAT D'AQUEST.
A9: ENTITATS | B9: ACTUACIONS | C9: Remuneracions Personal | D9: Desplaçaments | E9: Lloguer Iinstal·lacions desenvolupar projecte | F9: Material i serveis de les activitats | G9: Material, publicitat i comunicació difusió projecte | H9: Tallers, actes i sessions | I9: Primes d’assegurances | J9: Import IVA Suportat i no recuperable | K9: Indirectes (màxim 15%) | L9: Inversions Mobiliari, Equipaments, programari, vehicles... | M9: Informe de l’auditor | N9: Altres despeses necessàries | O9: Import total | P9: Import cofinançament | Q9: Import subvenció sol·licitada
A10: Escolliu l'entitat que realitza l'actuació | B10: Trieu l'actuació que es realitza
C11: 0 | D11: 0 | E11: 0 | F11: 0 | G11: 0 | H11: 0 | I11: 0 | J11: 0 | K11: 0 | L11: 0 | M11: 0 | N11: 0 | O11: =SUM(C11:N11) -> 0 | P11: 0 | Q11: =O11-P11 -> 0
C12: 0 | D12: 0 | E12: 0 | F12: 0 | G12: 0 | H12: 0 | I12: 0 | J12: 0 | K12: 0 | L12: 0 | M12: 0 | N12: 0 | O12: =SUM(C12:N12) -> 0 | P12: 0 | Q12: =O12-P12 -> 0
C13: 0 | D13: 0 | E13: 0 | F13: 0 | G13: 0 | H13: 0 | I13: 0 | J13: 0 | K13: 0 | L13: 0 | M13: 0 | N13: 0 | O13: =SUM(C13:N13) -> 0 | P13: 0 | Q13: =O13-P13 -> 0
C14: 0 | D14: 0 | E14: 0 | F14: 0 | G14: 0 | H14: 0 | I14: 0 | J14: 0 | K14: 0 | L14: 0 | M14: 0 | N14: 0 | O14: =SUM(C14:N14) -> 0 | P14: 0 | Q14: =O14-P14 -> 0
C15: 0 | D15: 0 | E15: 0 | F15: 0 | G15: 0 | H15: 0 | I15: 0 | J15: 0 | K15: 0 | L15: 0 | M15: 0 | N15: 0 | O15: =SUM(C15:N15) -> 0 | P15: 0 | Q15: =O15-P15 -> 0
C16: 0 | D16: 0 | E16: 0 | F16: 0 | G16: 0 | H16: 0 | I16: 0 | J16: 0 | K16: 0 | L16: 0 | M16: 0 | N16: 0 | O16: =SUM(C16:N16) -> 0 | P16: 0 | Q16: =O16-P16 -> 0
C17: 0 | D17: 0 | E17: 0 | F17: 0 | G17: 0 | H17: 0 | I17: 0 | J17: 0 | K17: 0 | L17: 0 | M17: 0 | N17: 0 | O17: =SUM(C17:N17) -> 0 | P17: 0 | Q17: =O17-P17 -> 0
C18: 0 | D18: 0 | E18: 0 | F18: 0 | G18: 0 | H18: 0 | I18: 0 | J18: 0 | K18: 0 | L18: 0 | M18: 0 | N18: 0 | O18: =SUM(C18:N18) -> 0 | P18: 0 | Q18: =O18-P18 -> 0
C19: 0 | D19: 0 | E19: 0 | F19: 0 | G19: 0 | H19: 0 | I19: 0 | J19: 0 | K19: 0 | L19: 0 | M19: 0 | N19: 0 | O19: =SUM(C19:N19) -> 0 | P19: 0 | Q19: =O19-P19 -> 0
C20: 0 | D20: 0 | E20: 0 | F20: 0 | G20: 0 | H20: 0 | I20: 0 | J20: 0 | K20: 0 | L20: 0 | M20: 0 | N20: 0 | O20: =SUM(C20:N20) -> 0 | P20: 0 | Q20: =O20-P20 -> 0
C21: 0 | D21: 0 | E21: 0 | F21: 0 | G21: 0 | H21: 0 | I21: 0 | J21: 0 | K21: 0 | L21: 0 | M21: 0 | N21: 0 | O21: =SUM(C21:N21) -> 0 | P21: 0 | Q21: =O21-P21 -> 0
C22: 0 | D22: 0 | E22: 0 | F22: 0 | G22: 0 | H22: 0 | I22: 0 | J22: 0 | K22: 0 | L22: 0 | M22: 0 | N22: 0 | O22: =SUM(C22:N22) -> 0 | P22: 0 | Q22: =O22-P22 -> 0
... C40: 0 | D40: 0 | E40: 0 | F40: 0 | G40: 0 | H40: 0 | I40: 0 | J40: 0 | K40: 0 | L40: 0 | M40: 0 | N40: 0 | O40: =SUM(C40:N40) -> 0 | P40: 0 | Q40: =O40-P40 -> 0
B41: IMPORT TOTAL ÀMBITS B-J | C41: =SUM(C11:C40) -> 0 | D41: =SUM(D11:D40) -> 0 | E41: =SUM(E11:E40) -> 0 | F41: =SUM(F11:F40) -> 0 | G41: =SUM(G11:G40) -> 0 | H41: =SUM(H11:H40) -> 0 | I41: =SUM(I11:I40) -> 0 | J41: =SUM(J11:J40) -> 0 | ... Q41: =SUM(Q11:Q40) -> 0
Q42: assegureu-vos que aquest import coincideix amb l'import de la sol·licitud

Sheet 4 -TOTAL PRESSUPOST
A2: PRESSUPOST PROJECTES COMUNARESS | D2: codi: G146NRMI-906-00
A4: ENTITAT SOL·LICITANT | B4: =IF('1 - DADES'!$D$7=0,"",'1 - DADES'!$D$7) | E4: NIF | F4: =IF('1 - DADES'!$D$8=0,"",'1 - DADES'!$D$8)
A5: NOM DEL PROJECTE | B5: =IF('1 - DADES'!$D$6=0,"",'1 - DADES'!$D$6)
A6: ÀMBIT PRINCIPAL DEL PROJECTE | B6: =IF('1 - DADES'!$D$9=0,"",'1 - DADES'!$D$9)
A8: AQUESTA PESTANYA S'AUTOOMPLE AMB LES DADES DELS ALTRES DOS FULLS ( SUMA AMBDUES )
A9: ACTUACIÓ | B9: ENTITAT | C9: Remuneracions Personal | D9: Desplaçaments | E9: Lloguer Iinstal·lacions desenvolupar projecte | F9: Material i serveis de les activitats | G9: Material, publicitat i comunicació difusió projecte | H9: Tallers, actes i sessions | I9: Primes d’assegurances | J9: Import IVA Suportat i no recuperable | K9: Indirectes (màxim 15%) | L9: Inversions Mobiliari, Equipaments, programari, vehicles... | M9: Informe de l’auditor | N9: Altres despeses necessàries | O9: Import total | P9: Import cofinançament | Q9: Import subvenció sol·licitada
B10: Escolliu l'entitat que realitza l'actuació
A11: Formació i dinamització per a les persones participants en el projecte i les destinàtaries finals d'aquest. | C11: 0 | D11: 0 | E11: 0 | F11: 0 | G11: 0 | H11: 0 | I11: 0 | J11: 0 | K11: 0 | L11: 0 | M11: 0 | N11: 0 | O11: =SUM(C11:N11) -> 0 | P11: 0 | Q11: =O11-P11 -> 0
C12: 0 | D12: 0 | E12: 0 | F12: 0 | G12: 0 | H12: 0 | I12: 0 | J12: 0 | K12: 0 | L12: 0 | M12: 0 | N12: 0 | O12: =SUM(C12:N12) -> 0 | P12: 0 | Q12: =O12-P12 -> 0
C13: 0 | D13: 0 | E13: 0 | F13: 0 | G13: 0 | H13: 0 | I13: 0 | J13: 0 | K13: 0 | L13: 0 | M13: 0 | N13: 0 | O13: =SUM(C13:N13) -> 0 | P13: 0 | Q13: =O13-P13 -> 0
C14: 0 | D14: 0 | E14: 0 | F14: 0 | G14: 0 | H14: 0 | I14: 0 | J14: 0 | K14: 0 | L14: 0 | M14: 0 | N14: 0 | O14: =SUM(C14:N14) -> 0 | P14: 0 | Q14: =O14-P14 -> 0
C15: 0 | D15: 0 | E15: 0 | F15: 0 | G15: 0 | H15: 0 | I15: 0 | J15: 0 | K15: 0 | L15: 0 | M15: 0 | N15: 0 | O15: =SUM(C15:N15) -> 0 | P15: 0 | Q15: =O15-P15 -> 0
A16: Campanyes de comunicació, promoció i difusió. | C16: 0 | D16: 0 | E16: 0 | F16: 0 | G16: 0 | H16: 0 | I16: 0 | J16: 0 | K16: 0 | L16: 0 | M16: 0 | N16: 0 | O16: =SUM(C16:N16) -> 0 | P16: 0 | Q16: =O16-P16 -> 0
C17: 0 | D17: 0 | E17: 0 | F17: 0 | G17: 0 | H17: 0 | I17: 0 | J17: 0 | K17: 0 | L17: 0 | M17: 0 | N17: 0 | O17: =SUM(C17:N17) -> 0 | P17: 0 | Q17: =O17-P17 -> 0
C18: 0 | D18: 0 | E18: 0 | F18: 0 | G18: 0 | H18: 0 | I18: 0 | J18: 0 | K18: 0 | L18: 0 | M18: 0 | N18: 0 | O18: =SUM(C18:N18) -> 0 | P18: 0 | Q18: =O18-P18 -> 0
C19: 0 | D19: 0 | E19: 0 | F19: 0 | G19: 0 | H19: 0 | I19: 0 | J19: 0 | K19: 0 | L19: 0 | M19: 0 | N19: 0 | O19: =SUM(C19:N19) -> 0 | P19: 0 | Q19: =O19-P19 -> 0
C20: 0 | D20: 0 | E20: 0 | F20: 0 | G20: 0 | H20: 0 | I20: 0 | J20: 0 | K20: 0 | L20: 0 | M20: 0 | N20: 0 | O20: =SUM(C20:N20) -> 0 | P20: 0 | Q20: =O20-P20 -> 0
A21: Accions de senzibilització o dinamització en l'entorn d'incidència. | C21: 0 | D21: 0 | E21: 0 | F21: 0 | G21: 0 | H21: 0 | I21: 0 | J21: 0 | K21: 0 | L21: 0 | M21: 0 | N21: 0 | O21: =SUM(C21:N21) -> 0 | P21: 0 | Q21: =O21-P21 -> 0
C22: 0 | D22: 0 | E22: 0 | F22: 0 | G22: 0 | H22: 0 | I22: 0 | J22: 0 | K22: 0 | L22: 0 | M22: 0 | N22: 0 | O22: =SUM(C22:N22) -> 0 | P22: 0 | Q22: =O22-P22 -> 0
C23: 0 | D23: 0 | E23: 0 | F23: 0 | G23: 0 | H23: 0 | I23: 0 | J23: 0 | K23: 0 | L23: 0 | M23: 0 | N23: 0 | O23: =SUM(C23:N23) -> 0 | P23: 0 | Q23: =O23-P23 -> 0
C24: 0 | D24: 0 | E24: 0 | F24: 0 | G24: 0 | H24: 0 | I24: 0 | J24: 0 | K24: 0 | L24: 0 | M24: 0 | N24: 0 | O24: =SUM(C24:N24) -> 0 | P24: 0 | Q24: =O24-P24 -> 0
C25: 0 | D25: 0 | E25: 0 | F25: 0 | G25: 0 | H25: 0 | I25: 0 | J25: 0 | K25: 0 | L25: 0 | M25: 0 | N25: 0 | O25: =SUM(C25:N25) -> 0 | P25: 0 | Q25: =O25-P25 -> 0
A26: Iniciatives, productes i serveis que cobreixin necessitats de les persones benificiàries. | C26: 0 | D26: 0 | E26: 0 | F26: 0 | G26: 0 | H26: 0 | I26: 0 | J26: 0 | K26: 0 | L26: 0 | M26: 0 | N26: 0 | O26: =SUM(C26:N26) -> 0 | P26: 0 | Q26: =O26-P26 -> 0
C27: 0 | D27: 0 | E27: 0 | F27: 0 | G27: 0 | H27: 0 | I27: 0 | J27: 0 | K27: 0 | L27: 0 | M27: 0 | N27: 0 | O27: =SUM(C27:N27) -> 0 | P27: 0 | Q27: =O27-P27 -> 0
C28: 0 | D28: 0 | E28: 0 | F28: 0 | G28: 0 | H28: 0 | I28: 0 | J28: 0 | K28: 0 | L28: 0 | M28: 0 | N28: 0 | O28: =SUM(C28:N28) -> 0 | P28: 0 | Q28: =O28-P28 -> 0
C29: 0 | D29: 0 | E29: 0 | F29: 0 | G29: 0 | H29: 0 | I29: 0 | J29: 0 | K29: 0 | L29: 0 | M29: 0 | N29: 0 | O29: =SUM(C29:N29) -> 0 | P29: 0 | Q29: =O29-P29 -> 0
C30: 0 | D30: 0 | E30: 0 | F30: 0 | G30: 0 | H30: 0 | I30: 0 | J30: 0 | K30: 0 | L30: 0 | M30: 0 | N30: 0 | O30: =SUM(C30:N30) -> 0 | P30: 0 | Q30: =O30-P30 -> 0
A31: Obertura de nous punts d'aprovisionament o d'intercanvi o d'adaptació dels ja existents, | C31: 0 | D31: 0 | E31: 0 | F31: 0 | G31: 0 | H31: 0 | I31: 0 | J31: 0 | K31: 0 | L31: 0 | M31: 0 | N31: 0 | O31: =SUM(C31:N31) -> 0 | P31: 0 | Q31: =O31-P31 -> 0
C32: 0 | D32: 0 | E32: 0 | F32: 0 | G32: 0 | H32: 0 | I32: 0 | J32: 0 | K32: 0 | L32: 0 | M32: 0 | N32: 0 | O32: =SUM(C32:N32) -> 0 | P32: 0 | Q32: =O32-P32 -> 0
C33: 0 | D33: 0 | E33: 0 | F33: 0 | G33: 0 | H33: 0 | I33: 0 | J33: 0 | K33: 0 | L33: 0 | M33: 0 | N33: 0 | O33: =SUM(C33:N33) -> 0 | P33: 0 | Q33: =O33-P33 -> 0
C34: 0 | D34: 0 | E34: 0 | F34: 0 | G34: 0 | H34: 0 | I34: 0 | J34: 0 | K34: 0 | L34: 0 | M34: 0 | N34: 0 | O34: =SUM(C34:N34) -> 0 | P34: 0 | Q34: =O34-P34 -> 0
C35: 0 | D35: 0 | E35: 0 | F35: 0 | G35: 0 | H35: 0 | I35: 0 | J35: 0 | K35: 0 | L35: 0 | M35: 0 | N35: 0 | O35: =SUM(C35:N35) -> 0 | P35: 0 | Q35: =O35-P35 -> 0
A36: Accions que fomentin la trobada intercultural, la relació i l'intercanvi d'experiències. | C36: 0 | D36: 0 | E36: 0 | F36: 0 | G36: 0 | H36: 0 | I36: 0 | J36: 0 | K36: 0 | L36: 0 | M36: 0 | N36: 0 | O36: =SUM(C36:N36) -> 0 | P36: 0 | Q36: =O36-P36 -> 0
C37: 0 | D37: 0 | E37: 0 | F37: 0 | G37: 0 | H37: 0 | I37: 0 | J37: 0 | K37: 0 | L37: 0 | M37: 0 | N37: 0 | O37: =SUM(C37:N37) -> 0 | P37: 0 | Q37: =O37-P37 -> 0
C38: 0 | D38: 0 | E38: 0 | F38: 0 | G38: 0 | H38: 0 | I38: 0 | J38: 0 | K38: 0 | L38: 0 | M38: 0 | N38: 0 | O38: =SUM(C38:N38) -> 0 | P38: 0 | Q38: =O38-P38 -> 0
C39: 0 | D39: 0 | E39: 0 | F39: 0 | G39: 0 | H39: 0 | I39: 0 | J39: 0 | K39: 0 | L39: 0 | M39: 0 | N39: 0 | O39: =SUM(C39:N39) -> 0 | P39: 0 | Q39: =O39-P39 -> 0
C40: 0 | D40: 0 | E40: 0 | F40: 0 | G40: 0 | H40: 0 | I40: 0 | J40: 0 | K40: 0 | L40: 0 | M40: 0 | N40: 0 | O40: =SUM(C40:N40) -> 0 | P40: 0 | Q40: =O40-P40 -> 0
A41: Adquisició d'estocs i altres materials necessaris. | C41: 0 | D41: 0 | E41: 0 | F41: 0 | G41: 0 | H41: 0 | I41: 0 | J41: 0 | K41: 0 | L41: 0 | M41: 0 | N41: 0 | O41: =SUM(C41:N41) -> 0 | P41: 0 | Q41: =O41-P41 -> 0
C42: 0 | D42: 0 | E42: 0 | F42: 0 | G42: 0 | H42: 0 | I42: 0 | J42: 0 | K42: 0 | L42: 0 | M42: 0 | N42: 0 | O42: =SUM(C42:N42) -> 0 | P42: 0 | Q42: =O42-P42 -> 0
C43: 0 | D43: 0 | E43: 0 | F43: 0 | G43: 0 | H43: 0 | I43: 0 | J43: 0 | K43: 0 | L43: 0 | M43: 0 | N43: 0 | O43: =SUM(C43:N43) -> 0 | P43: 0 | Q43: =O43-P43 -> 0
C44: 0 | D44: 0 | E44: 0 | F44: 0 | G44: 0 | H44: 0 | I44: 0 | J44: 0 | K44: 0 | L44: 0 | M44: 0 | N44: 0 | O44: =SUM(C44:N44) -> 0 | P44: 0 | Q44: =O44-P44 -> 0
C45: 0 | D45: 0 | E45: 0 | F45: 0 | G45: 0 | H45: 0 | I45: 0 | J45: 0 | K45: 0 | L45: 0 | M45: 0 | N45: 0 | O45: =SUM(C45:N45) -> 0 | P45: 0 | Q45: =O45-P45 -> 0
A46: Petites accions d'adequació, rehabilitació,obra i manteniment de locals. | C46: 0 | D46: 0 | E46: 0 | F46: 0 | G46: 0 | H46: 0 | I46: 0 | J46: 0 | K46: 0 | L46: 0 | M46: 0 | N46: 0 | O46: =SUM(C46:N46) -> 0 | P46: 0 | Q46: =O46-P46 -> 0
C47: 0 | D47: 0 | E47: 0 | F47: 0 | G47: 0 | H47: 0 | I47: 0 | J47: 0 | K47: 0 | L47: 0 | M47: 0 | N47: 0 | O47: =SUM(C47:N47) -> 0 | P47: 0 | Q47: =O47-P47 -> 0
C48: 0 | D48: 0 | E48: 0 | F48: 0 | G48: 0 | H48: 0 | I48: 0 | J48: 0 | K48: 0 | L48: 0 | M48: 0 | N48: 0 | O48: =SUM(C48:N48) -> 0 | P48: 0 | Q48: =O48-P48 -> 0
C49: 0 | D49: 0 | E49: 0 | F49: 0 | G49: 0 | H49: 0 | I49: 0 | J49: 0 | K49: 0 | L49: 0 | M49: 0 | N49: 0 | O49: =SUM(C49:N49) -> 0 | P49: 0 | Q49: =O49-P49 -> 0
C50: 0 | D50: 0 | E50: 0 | F50: 0 | G50: 0 | H50: 0 | I50: 0 | J50: 0 | K50: 0 | L50: 0 | M50: 0 | N50: 0 | O50: =SUM(C50:N50) -> 0 | P50: 0 | Q50: =O50-P50 -> 0
A51: Adquisició de màquinaria i altres bèns d'equipament, bèns de consum o d'inversió. | C51: 0 | D51: 0 | E51: 0 | F51: 0 | G51: 0 | H51: 0 | I51: 0 | J51: 0 | K51: 0 | L51: 0 | M51: 0 | N51: 0 | O51: =SUM(C51:N51) -> 0 | P51: 0 | Q51: =O51-P51 -> 0
C52: 0 | D52: 0 | E52: 0 | F52: 0 | G52: 0 | H52: 0 | I52: 0 | J52: 0 | K52: 0 | L52: 0 | M52: 0 | N52: 0 | O52: =SUM(C52:N52) -> 0 | P52: 0 | Q52: =O52-P52 -> 0
C53: 0 | D53: 0 | E53: 0 | F53: 0 | G53: 0 | H53: 0 | I53: 0 | J53: 0 | K53: 0 | L53: 0 | M53: 0 | N53: 0 | O53: =SUM(C53:N53) -> 0 | P53: 0 | Q53: =O53-P53 -> 0
C54: 0 | D54: 0 | E54: 0 | F54: 0 | G54: 0 | H54: 0 | I54: 0 | J54: 0 | K54: 0 | L54: 0 | M54: 0 | N54: 0 | O54: =SUM(C54:N54) -> 0 | P54: 0 | Q54: =O54-P54 -> 0
C55: 0 | D55: 0 | E55: 0 | F55: 0 | G55: 0 | H55: 0 | I55: 0 | J55: 0 | K55: 0 | L55: 0 | M55: 0 | N55: 0 | O55: =SUM(C55:N55) -> 0 | P55: 0 | Q55: =O55-P55 -> 0
A56: Contractació dels serveis necessaris per a l'execució i la gestió de les iniciatives. | C56: 0 | D56: 0 | E56: 0 | F56: 0 | G56: 0 | H56: 0 | I56: 0 | J56: 0 | K56: 0 | L56: 0 | M56: 0 | N56: 0 | O56: =SUM(C56:N56) -> 0 | P56: 0 | Q56: =O56-P56 -> 0
C57: 0 | D57: 0 | E57: 0 | F57: 0 | G57: 0 | H57: 0 | I57: 0 | J57: 0 | K57: 0 | L57: 0 | M57: 0 | N57: 0 | O57: =SUM(C57:N57) -> 0 | P57: 0 | Q57: =O57-P57 -> 0
C58: 0 | D58: 0 | E58: 0 | F58: 0 | G58: 0 | H58: 0 | I58: 0 | J58: 0 | K58: 0 | L58: 0 | M58: 0 | N58: 0 | O58: =SUM(C58:N58) -> 0 | P58: 0 | Q58: =O58-P58 -> 0
C59: 0 | D59: 0 | E59: 0 | F59: 0 | G59: 0 | H59: 0 | I59: 0 | J59: 0 | K59: 0 | L59: 0 | M59: 0 | N59: 0 | O59: =SUM(C59:N59) -> 0 | P59: 0 | Q59: =O59-P59 -> 0
C60: 0 | D60: 0 | E60: 0 | F60: 0 | G60: 0 | H60: 0 | I60: 0 | J60: 0 | K60: 0 | L60: 0 | M60: 0 | N60: 0 | O60: =SUM(C60:N60) -> 0 | P60: 0 | Q60: =O60-P60 -> 0
A61: Lloguer de locals per al desenvolupament de les iniciatives. | C61: 0 | D61: 0 | E61: 0 | F61: 0 | G61: 0 | H61: 0 | I61: 0 | J61: 0 | K61: 0 | L61: 0 | M61: 0 | N61: 0 | O61: =SUM(C61:N61) -> 0 | P61: 0 | Q61: =O61-P61 -> 0
C62: 0 | D62: 0 | E62: 0 | F62: 0 | G62: 0 | H62: 0 | I62: 0 | J62: 0 | K62: 0 | L62: 0 | M62: 0 | N62: 0 | O62: =SUM(C62:N62) -> 0 | P62: 0 | Q62: =O62-P62 -> 0
C63: 0 | D63: 0 | E63: 0 | F63: 0 | G63: 0 | H63: 0 | I63: 0 | J63: 0 | K63: 0 | L63: 0 | M63: 0 | N63: 0 | O63: =SUM(C63:N63) -> 0 | P63: 0 | Q63: =O63-P63 -> 0
C64: 0 | D64: 0 | E64: 0 | F64: 0 | G64: 0 | H64: 0 | I64: 0 | J64: 0 | K64: 0 | L64: 0 | M64: 0 | N64: 0 | O64: =SUM(C64:N64) -> 0 | P64: 0 | Q64: =O64-P64 -> 0
C65: 0 | D65: 0 | E65: 0 | F65: 0 | G65: 0 | H65: 0 | I65: 0 | J65: 0 | K65: 0 | L65: 0 | M65: 0 | N65: 0 | O65: =SUM(C65:N65) -> 0 | P65: 0 | Q65: =O65-P65 -> 0
A66: Contractació de personal que participi | C66: 0 | D66: 0 | E66: 0 | F66: 0 | G66: 0 | H66: 0 | I66: 0 | J66: 0 | K66: 0 | L66: 0 | M66: 0 | N66: 0 | O66: =SUM(C66:N66) -> 0 | P66: 0 | Q66: =O66-P66 -> 0
A67: els treballs del projecte, o que compleixi | C67: 0 | D67: 0 | E67: 0 | F67: 0 | G67: 0 | H67: 0 | I67: 0 | J67: 0 | K67: 0 | L67: 0 | M67: 0 | N67: 0 | O67: =SUM(C67:N67) -> 0 | P67: 0 | Q67: =O67-P67 -> 0
A68: tasques en la seva elaboració, execució | C68: 0 | D68: 0 | E68: 0 | F68: 0 | G68: 0 | H68: 0 | I68: 0 | J68: 0 | K68: 0 | L68: 0 | M68: 0 | N68: 0 | O68: =SUM(C68:N68) -> 0 | P68: 0 | Q68: =O68-P68 -> 0
A69: desenvolupament o seguiment. | C69: 0 | D69: 0 | E69: 0 | F69: 0 | G69: 0 | H69: 0 | I69: 0 | J69: 0 | K69: 0 | L69: 0 | M69: 0 | N69: 0 | O69: =SUM(C69:N69) -> 0 | P69: 0 | Q69: =O69-P69 -> 0
C70: 0 | D70: 0 | E70: 0 | F70: 0 | G70: 0 | H70: 0 | I70: 0 | J70: 0 | K70: 0 | L70: 0 | M70: 0 | N70: 0 | O70: =SUM(C70:N70) -> 0 | P70: 0 | Q70: =O70-P70 -> 0
B71: IMPORT TOTAL PROJECTE | C71: ='2 - PRESSUPOST ÀMBIT A '!C41+'4 -TOTAL PRESSUPOST'!C26 -> 0 | D71: ='2 - PRESSUPOST ÀMBIT A '!D41+'3 -PRESSUPOST ÀMBITS B-J'!D41 -> 0 | E71: ='2 - PRESSUPOST ÀMBIT A '!E41+'3 -PRESSUPOST ÀMBITS B-J'!E41 -> 0 | F71: ='2 - PRESSUPOST ÀMBIT A '!F41+'3 -PRESSUPOST ÀMBITS B-J'!F41 -> 0 | G71: ='2 - PRESSUPOST ÀMBIT A '!G41+'3 -PRESSUPOST ÀMBITS B-J'!G41 -> 0 | H71: ='2 - PRESSUPOST ÀMBIT A '!H41+'3 -PRESSUPOST ÀMBITS B-J'!H41 -> 0 | I71: ='2 - PRESSUPOST ÀMBIT A '!I41+'3 -PRESSUPOST ÀMBITS B-J'!I41 -> 0 | J71: ='2 - PRESSUPOST ÀMBIT A '!K41+'3 -PRESSUPOST ÀMBITS B-J'!K41 -> 0 | K71: ='2 - PRESSUPOST ÀMBIT A '!K41+'3 -PRESSUPOST ÀMBITS B-J'!K41 -> 0 | L71: ='2 - PRESSUPOST ÀMBIT A '!L41+'3 -PRESSUPOST ÀMBITS B-J'!L41 -> 0 | M71: ='2 - PRESSUPOST ÀMBIT A '!M41+'3 -PRESSUPOST ÀMBITS B-J'!M41 -> 0 | N71: ='2 - PRESSUPOST ÀMBIT A '!N41+'3 -PRESSUPOST ÀMBITS B-J'!N41 -> 0 | O71: ='2 - PRESSUPOST ÀMBIT A '!O41+'3 -PRESSUPOST ÀMBITS B-J'!O41 -> 0 | P71: ='2 - PRESSUPOST ÀMBIT A '!P41+'3 -PRESSUPOST ÀMBITS B-J'!P41 -> 0 | Q71: ='2 - PRESSUPOST ÀMBIT A '!Q41+'3 -PRESSUPOST ÀMBITS B-J'!Q41 -> 0 | R71: ='3 -PRESSUPOST ÀMBITS B-J'!Q41+'2 - PRESSUPOST ÀMBIT A '!Q41 -> 0
B72: Casella Comprovació Difèrencia / Error | C72: =SUM(C11:C70)-C71 -> 0 | D72: =SUM(D11:D70)-D71 -> 0 | E72: =SUM(E11:E70)-E71 -> 0 | F72: =SUM(F11:F70)-F71 -> 0 | G72: =SUM(G11:G70)-G71 -> 0 | H72: =SUM(H11:H70)-H71 -> 0 | I72: =SUM(I11:I70)-I71 -> 0 | J72: =SUM(J11:J70)-J71 -> 0 | ... Q72: =SUM(Q11:Q70)-Q71 -> 0 | R72: assegureu-vos que aquest import coincideix amb l'import de la sol·licitud

Sheet Desplegables
B2: ÀMBITS | E2: ACTUACIONS
B3: Grups de consum agroecològic o grups de consum responsable autoorganitzats | E3: Formació i dinamització per a les persones participants en el projecte i les destinàtaries finals d'aquest. | G3: Persona o entitat Representant
B4: Xarxes i mercats intercanvi de béns, físics o virtuals, sense intercanvi monetari | E4: Campanyes de comunicació, promoció i difusió. | G4: Persona o entitat Membre de l'Agrupació
B5: Intercanvi de serveis, coneixements, aprenentatge com bancs del temps o sistemes de suport escolar | E5: Accions de senzibilització o dinamització en l'entorn d'incidència.
B6: Horts i jardins comunitaris | E6: Iniciatives, productes i serveis que cobreixin necessitats de les persones benificiàries.
B7: Xarxes de solidaritat, suport mutu i cures autoorganitzades | E7: Obertura de nous punts d'aprovisionament o d'intercanvi o d'adaptació dels ja existents,
B8: Aprofitament d’espais i infraestructures de titularitat pública | E8: Accions que fomentin la trobada intercultural, la relació i l'intercanvi d'experiències.
B9: Xarxes de solidaritat, suport mutu i cures autoorganitzades Mitjans de comunicació o difusió autogestionats. | E9: Adquisició d'estocs i altres materials necessaris.
B10: Grups de criança compartida | E10: Petites accions d'adequació, rehabilitació,obra i manteniment de locals.
B11: Educació comunitària | E11: Adquisició de màquinaria i altres bèns d'equipament, bèns de consum o d'inversió.
B12: Cultura comunitària | E12: Contractació dels serveis necessaris per a l'execució i la gestió de les iniciatives.
E13: Lloguer de locals per al desenvolupament de les iniciatives.
E14: Contractació de personal que participi en els treballs del projecte, o que compleixi tasques en la seva elaboració, execució, desenvolupament o seguiment.
B15: Demarcacions territorials
B16: Regió Alt Pirineu i Aran
B17: Barcelona Ciutat
B18: Baix Llobregat
B19: Barcelona Nord
B20: Maresme
B21: Vallès Occidental
B22: Vallès Oriental
B23: L'Hospitalet de Llobregat
B24: Regió Catalunya Central
B25: Regió Penedès, Anoia i Garraf
B26: Regió Girona
... B29: Terres de l'Ebre
