Workbook
Name Abast: CODIS!$E$2:$E$8
Name comarca: CODIS!$C$2:$C$43
Name ENTITAT: CODIS!$G$2:$G$3
Name Municipi: CODIS!$A$2:$A$600

Sheet RESUM I PRESSUPOST
A1: FITXA RESUM I PRESSUPOST PROJECTE LINIA 4
A3: ENTITAT SOL·LICITANT | F3: NIF
A4: NOM DEL PROJECTE | B4: Coordinació, promoció i difusió de projectes d'economia social i cooperativa
A6: Actuació | B6: DATA INICI | C6: DATA FINAL | D6: Remuneracions del personal | E6: Lloguer | F6: Elaboració de continguts, dissenys, materials, publicitat i comunicació | G6: Primes d’assegurances | H6: Indirectes (màxim 15%) | I6: Informe de l’auditor | J6: Import total | K6: Import cofinançament | L6: Import subvenció sol·licitada
A7: a) Seguiment dels projectes singulars | J7: =SUM(D7:I7) -> 0 | L7: =J7-K7 -> 0
A8: b) Coordinació i seguiment dels diferents projectes de suport a l'economia social i solidària i el cooperativisme. | J8: =SUM(D8:I8) -> 0 | L8: =J8-K8 -> 0
A9: c) Seguiment dels projectes de la línia Xarxa d'ateneus cooperatius en relació amb el seu funcionament i el compliment de les estipulacions recollides a l'annex 2 de l'Ordre de bases. | J9: =SUM(D9:I9) -> 0 | L9: =J9-K9 -> 0
A10: d) Dinamització i continguts per al web i xarxes socials en relació amb els projectes singulars i els projectes d'economia social, i manteniment del Programa d'economia social. | J10: =SUM(D10:I10) -> 0 | L10: =J10-K10 -> 0
A11: TOTAL | D11: =SUM(D7:D10) -> 0 | E11: =SUM(E7:E10) -> 0 | F11: =SUM(F7:F10) -> 0 | G11: =SUM(G7:G10) -> 0 | H11: =SUM(H7:H10) -> 0 | I11: =SUM(I7:I10) -> 0 | J11: =SUM(J7:J10) -> 0 | K11: =SUM(K7:K10) -> 0 | L11: =SUM(L7:L10) -> 0
H12: =IF(J11=0,"",IF(H11/J11>0.15,"SUPERA 15%","")) | L12: =IF(L11>238125,"IMPORT SUPERIOR A 238.125,00 euros","assegureu-vos que aquest import coincideix amb l'import de la sol·licitud") -> assegureu-vos que aquest import coincideix amb l'import de la sol·licitud

Sheet DADES ENTITATS
A1: DADES ENTITAT/S PROJECTE LINIA 4
A3: ENTITAT SOL·LICITANT | C3: =IF('RESUM I PRESSUPOST'!B3="","",'RESUM I PRESSUPOST'!B3) | J3: NIF | K3: =IF('RESUM I PRESSUPOST'!G3="","",'RESUM I PRESSUPOST'!G3)
A4: NOM DEL PROJECTE | C4: Coordinació, promoció i difusió de projectes d'economia social i cooperativa
A7: NÚMERO | B7: NOM ENTITAT | C7: NIF | D7: TIPUS D’ENTITAT S=Sol·licitant A=Agrupada c=Col·laboradora (sense pressupost) | E7: MUNICIPI | F7: PLANTILLA DE L'ENTITAT (31/05/2021) | R7: Import total | S7: Import cofinançament | T7: Pes econòmic | U7: Import subvenció sol·licitada
F8: PERSONES TREBALLADORES SÒCIES | L8: PERSONES TREBALLADORES (NO SÒCIES)
F9: DONES | I9: HOMES | L9: DONES | O9: HOMES
F10: <25 ANYS | G10: ENTRE 25 I 54 ANYS | H10: >54 | I10: <25 ANYS | J10: ENTRE 25 I 54 ANYS | K10: >54 | L10: <25 ANYS | M10: ENTRE 25 I 54 ANYS | N10: >54 | O10: <25 ANYS | P10: ENTRE 25 I 54 ANYS | Q10: >54
A11: 1 | B11: =IF('RESUM I PRESSUPOST'!B3="","",'RESUM I PRESSUPOST'!B3) | C11: =IF('RESUM I PRESSUPOST'!G3="","",'RESUM I PRESSUPOST'!G3) | D11: S | T11: =IF($R$21=0,"",R11/$R$21) | U11: =R11-S11 -> 0
A12: 2 | T12: =IF($R$21=0,"",R12/$R$21) | U12: =R12-S12 -> 0 | V12: =IF($R$21=0,"",IF(AND(R12/$R$21>50%,D12="A"),"REVISEU, import %>50%","ok"))
A13: 3 | T13: =IF($R$21=0,"",R13/$R$21) | U13: =R13-S13 -> 0 | V13: =IF($R$21=0,"",IF(AND(R13/$R$21>50%,D13="A"),"REVISEU, import %>50%","ok"))
A14: 4 | T14: =IF($R$21=0,"",R14/$R$21) | U14: =R14-S14 -> 0 | V14: =IF($R$21=0,"",IF(AND(R14/$R$21>50%,D14="A"),"REVISEU, import %>50%","ok"))
A15: 5 | T15: =IF($R$21=0,"",R15/$R$21) | U15: =R15-S15 -> 0 | V15: =IF($R$21=0,"",IF(AND(R15/$R$21>50%,D15="A"),"REVISEU, import %>50%","ok"))
A16: 6 | T16: =IF($R$21=0,"",R16/$R$21) | U16: =R16-S16 -> 0 | V16: =IF($R$21=0,"",IF(AND(R16/$R$21>50%,D16="A"),"REVISEU, import %>50%","ok"))
A17: 7 | T17: =IF($R$21=0,"",R17/$R$21) | U17: =R17-S17 -> 0 | V17: =IF($R$21=0,"",IF(AND(R17/$R$21>50%,D17="A"),"REVISEU, import %>50%","ok"))
A18: 8 | T18: =IF($R$21=0,"",R18/$R$21) | U18: =R18-S18 -> 0 | V18: =IF($R$21=0,"",IF(AND(R18/$R$21>50%,D18="A"),"REVISEU, import %>50%","ok"))
A19: 9 | T19: =IF($R$21=0,"",R19/$R$21) | U19: =R19-S19 -> 0 | V19: =IF($R$21=0,"",IF(AND(R19/$R$21>50%,D19="A"),"REVISEU, import %>50%","ok"))
A20: 10 | T20: =IF($R$21=0,"",R20/$R$21) | U20: =R20-S20 -> 0 | V20: =IF($R$21=0,"",IF(AND(R20/$R$21>50%,D20="A"),"REVISEU, import %>50%","ok"))
R21: =SUM(R11:R20) -> 0 | S21: =SUM(S11:S20) -> 0 | T21: =SUM(T11:T20) -> 0 | U21: =SUM(U11:U20) -> 0
R22: =IF('RESUM I PRESSUPOST'!J11<>R21,"ERROR import diferent del pressupost","import coincident") -> import coincident | S22: =IF('RESUM I PRESSUPOST'!K11<>S21,"ERROR import diferent del pressupost","import coincident") -> import coincident | T22: =IF(T21>100%,"SUPERA EL 100%",) -> 0 | U22: =IF('RESUM I PRESSUPOST'!L11<>U21,"ERROR import diferent del pressupost","import coincident") -> import coincident

Sheet CODIS
A1: Municipi | C1: Comarca | E1: Abast | G1: ENTITAT
A2: Abrera | C2: Baix Llobregat | E2: Barcelona | G2: S
A3: Agramunt | C3: Urgell | E3: Catalunya Central | G3: A
A4: Aguilar De Segarra | C4: Bages | E4: Penedès | G4: c
A5: Aiguamúrcia | C5: Alt Camp | E5: Girona
A6: Aiguaviva | C6: Gironès | E6: Tarragona
A7: Aitona | C7: Segrià | E7: Terres de l'Ebre
A8: Albagés, L' | C8: Garrigues | E8: Pirineu i Aran
A9: Albatàrrec | C9: Noguera
A10: Albesa | C10: Baix Penedès
A11: Albi, L' | C11: Montsià
A12: Albinyana | C12: Baix Ebre
A13: Alcanar | C13: Baix Camp
A14: Alcanó | C14: Maresme
A15: Alcarràs | C15: Tarragonès
A16: Alcoletge | C16: Vallès Oriental
A17: Alcover | C17: Selva
A18: Aldea, L' | C18: Garrotxa
A19: Aleixar, L' | C19: Alt Empordà
A20: Alella | C20: Terra Alta
... A43: Arenys De Mar | C43: Val d'Aran
A44: Arenys De Munt
A45: Argelaguer
A46: Argentona
A47: Armentera, L'
A48: Arnes
A49: Artés
A50: Artesa De Lleida
A51: Artesa De Segre
A52: Ascó
A53: Aspa
A54: Avià
A55: Avinyó
... A600: Xerta
