Workbook
Name concepte_personal: #REF!
Name ENTITAT: #REF!
Name expedient: #REF!
Name mes: #REF!
Name MUNICIPI: #REF!
Name NIF_ENTITAT: #REF!
Name pagament: #REF!
Name projecte: #REF!
Name ReferènciaiActuacions: Actuacions!$A$11:$B$3010
Name tasques: #REF!
Name tipus_despesa: #REF!

Sheet Instruccions
A6: Instruccions
B23: Recordeu que el full d'actuacions ha d'anar signat pel representant legal de l'entitat sol·licitant
B24: Recordeu que al full d'Acompanyaments, tot i que s’hagin realitzat diverses sessions d’acompanyament, seleccioneu un únic codi/actuació d’acompanyament per projecte.

Sheet Actuacions
A1: Relació d'entitats, de llocs de treball creats i de participants Ordre EMT/167/2021_L1_XARXA D'ATENEUS COOPERATIUS
B4: EXPEDIENT
B5: NIF | C5: =IF(ISERROR(VLOOKUP(C4,Paràmetres!A:D,2,0)),"",VLOOKUP(C4,Paràmetres!A:D,2,0))
B6: ENTITAT PROMOTORA | C6: =IF(ISERROR(VLOOKUP(C4,Paràmetres!A:D,3,0)),"",VLOOKUP(C4,Paràmetres!A:D,3,0))
B7: Projecte | C7: =IF(ISERROR(VLOOKUP(C4,Paràmetres!A:D,4,0)),"",VLOOKUP(C4,Paràmetres!A:D,4,0)) | D7: =IF(ISERROR(VLOOKUP(D5,Paràmetres!B:S,3,0)),"",VLOOKUP(D5,Paràmetres!B:S,3,0)) | E7: =IF(ISERROR(VLOOKUP(#REF!,Paràmetres!C:T,3,0)),"",VLOOKUP(#REF!,Paràmetres!C:T,3,0)) | J7: =IF(ISERROR(VLOOKUP(J5,Paràmetres!S:V,3,0)),"",VLOOKUP(J5,Paràmetres!S:V,3,0)) | K7: =IF(ISERROR(VLOOKUP(K5,Paràmetres!T:W,3,0)),"",VLOOKUP(K5,Paràmetres!T:W,3,0)) | L7: =IF(ISERROR(VLOOKUP(L5,Paràmetres!U:W,3,0)),"",VLOOKUP(L5,Paràmetres!U:W,3,0))
A8: Recordeu que el nombre d'actuacions i el nombre de participants que s'incorpori en aquest fitxer ha de coincidir amb les dades que divulgueu amb qualsevol altra finalitat. El nombre de participants que afegiu a la pestanya 'Actuacions' ha de coincidir amb el nombre total de participants que introuduïu a les pestanyes 'Participants' i 'Menors'. | D8: Nombre d'actuacions fetes: | J8: Nombre total de participants:
D9: =COUNTA(D11:D3010) -> 0 | J9: =SUM(J11:J3010) -> 0
A10: Referència | B10: Servei | C10: Tipus d'actuació | D10: Nom de l'actuació | E10: Data inici d'actuació | F10: Periode d'actuacions | G10: Entitat que realitza l'actuació | H10: Cercle/ Ateneu | I10: Municipi | J10: Nombre de participants | K10: Material de difusió (S/N) | L10: Observacions (emplenar en cas molt rellevant)
A11: 1 | F11: =IF(E11="","",IF(E11<=DATEVALUE("9/11/2022"),"2021-22",IF(E11>DATEVALUE("9/11/2022"),""))) | M11: =A11&" - "&C11&" "&F11&" "&G11&" - "&H11 -> 1 - -
A12: =IF(ISERROR(IF(B12="","",A11+1)),"",IF(B12="","",A11+1)) | F12: =IF(E12="","",IF(E12<=DATEVALUE("9/11/2022"),"2021-22",IF(E12>DATEVALUE("9/11/2022"),""))) | M12: =A12&" - "&C12&" "&F12&" "&G12&" - "&H12 -> - -
A13: =IF(ISERROR(IF(B13="","",A12+1)),"",IF(B13="","",A12+1)) | F13: =IF(E13="","",IF(E13<=DATEVALUE("9/11/2022"),"2021-22",IF(E13>DATEVALUE("9/11/2022"),""))) | M13: =A13&" - "&C13&" "&F13&" "&G13&" - "&H13 -> - -
A14: =IF(ISERROR(IF(B14="","",A13+1)),"",IF(B14="","",A13+1)) | F14: =IF(E14="","",IF(E14<=DATEVALUE("9/11/2022"),"2021-22",IF(E14>DATEVALUE("9/11/2022"),""))) | M14: =A14&" - "&C14&" "&F14&" "&G14&" - "&H14 -> - -
A15: =IF(ISERROR(IF(B15="","",A14+1)),"",IF(B15="","",A14+1)) | F15: =IF(E15="","",IF(E15<=DATEVALUE("9/11/2022"),"2021-22",IF(E15>DATEVALUE("9/11/2022"),""))) | M15: =A15&" - "&C15&" "&F15&" "&G15&" - "&H15 -> - -
A16: =IF(ISERROR(IF(B16="","",A15+1)),"",IF(B16="","",A15+1)) | F16: =IF(E16="","",IF(E16<=DATEVALUE("9/11/2022"),"2021-22",IF(E16>DATEVALUE("9/11/2022"),""))) | M16: =A16&" - "&C16&" "&F16&" "&G16&" - "&H16 -> - -
A17: =IF(ISERROR(IF(B17="","",A16+1)),"",IF(B17="","",A16+1)) | F17: =IF(E17="","",IF(E17<=DATEVALUE("9/11/2022"),"2021-22",IF(E17>DATEVALUE("9/11/2022"),""))) | M17: =A17&" - "&C17&" "&F17&" "&G17&" - "&H17 -> - -
A18: =IF(ISERROR(IF(B18="","",A17+1)),"",IF(B18="","",A17+1)) | F18: =IF(E18="","",IF(E18<=DATEVALUE("9/11/2022"),"2021-22",IF(E18>DATEVALUE("9/11/2022"),""))) | M18: =A18&" - "&C18&" "&F18&" "&G18&" - "&H18 -> - -
A19: =IF(ISERROR(IF(B19="","",A18+1)),"",IF(B19="","",A18+1)) | F19: =IF(E19="","",IF(E19<=DATEVALUE("9/11/2022"),"2021-22",IF(E19>DATEVALUE("9/11/2022"),""))) | M19: =A19&" - "&C19&" "&F19&" "&G19&" - "&H19 -> - -
A20: =IF(ISERROR(IF(B20="","",A19+1)),"",IF(B20="","",A19+1)) | F20: =IF(E20="","",IF(E20<=DATEVALUE("9/11/2022"),"2021-22",IF(E20>DATEVALUE("9/11/2022"),""))) | M20: =A20&" - "&C20&" "&F20&" "&G20&" - "&H20 -> - -
A21: =IF(ISERROR(IF(B21="","",A20+1)),"",IF(B21="","",A20+1)) | F21: =IF(E21="","",IF(E21<=DATEVALUE("9/11/2022"),"2021-22",IF(E21>DATEVALUE("9/11/2022"),""))) | M21: =A21&" - "&C21&" "&F21&" "&G21&" - "&H21 -> - -
A22: =IF(ISERROR(IF(B22="","",A21+1)),"",IF(B22="","",A21+1)) | F22: =IF(E22="","",IF(E22<=DATEVALUE("9/11/2022"),"2021-22",IF(E22>DATEVALUE("9/11/2022"),""))) | M22: =A22&" - "&C22&" "&F22&" "&G22&" - "&H22 -> - -
A23: =IF(ISERROR(IF(B23="","",A22+1)),"",IF(B23="","",A22+1)) | F23: =IF(E23="","",IF(E23<=DATEVALUE("9/11/2022"),"2021-22",IF(E23>DATEVALUE("9/11/2022"),""))) | M23: =A23&" - "&C23&" "&F23&" "&G23&" - "&H23 -> - -
... A3010: =IF(ISERROR(IF(B3010="","",A3009+1)),"",IF(B3010="","",A3009+1)) | F3010: =IF(E3010="","",IF(E3010<=DATEVALUE("9/11/2022"),"2021-22",IF(E3010>DATEVALUE("9/11/2022"),""))) | M3010: =A3010&" - "&C3010&" "&F3010&" "&G3010&" - "&H3010 -> - -

Sheet Participants
B2: EXPEDIENT | C2: =+Actuacions!C4 -> 0
B3: NIF | C3: =Actuacions!C5
B4: ENTITAT PROMOTORA | C4: =Actuacions!C6
B5: Projecte | C5: =Actuacions!C7
C7: Nombre de participants:
C8: =COUNTA(C11:C5010) -> 0
C9: PARTICIPANTS
A10: Referència (Selecciona un de la llista) | B10: Nom actuació | C10: Cognoms | D10: Nom | E10: Document identificatiu (DNI,NIE,passaport) | F10: Gènere H=Home D=Dona NB= No binari | G10: Data naixement | H10: Municipi del participant
B11: =IF(OR(ISERROR(VLOOKUP(LEFT(A11,FIND(" ",A11,1)),Actuacions!$A$10:$D$3010,4)),A11=""),"",VLOOKUP(VALUE(LEFT(A11,FIND(" ",A11,1))),Actuacions!$A$10:$D$3010,4))
B12: =IF(OR(ISERROR(VLOOKUP(LEFT(A12,FIND(" ",A12,1)),Actuacions!$A$10:$D$3010,4)),A12=""),"",VLOOKUP(VALUE(LEFT(A12,FIND(" ",A12,1))),Actuacions!$A$10:$D$3010,4))
B13: =IF(OR(ISERROR(VLOOKUP(LEFT(A13,FIND(" ",A13,1)),Actuacions!$A$10:$D$3010,4)),A13=""),"",VLOOKUP(VALUE(LEFT(A13,FIND(" ",A13,1))),Actuacions!$A$10:$D$3010,4))
B14: =IF(OR(ISERROR(VLOOKUP(LEFT(A14,FIND(" ",A14,1)),Actuacions!$A$10:$D$3010,4)),A14=""),"",VLOOKUP(VALUE(LEFT(A14,FIND(" ",A14,1))),Actuacions!$A$10:$D$3010,4))
B15: =IF(OR(ISERROR(VLOOKUP(LEFT(A15,FIND(" ",A15,1)),Actuacions!$A$10:$D$3010,4)),A15=""),"",VLOOKUP(VALUE(LEFT(A15,FIND(" ",A15,1))),Actuacions!$A$10:$D$3010,4))
B16: =IF(OR(ISERROR(VLOOKUP(LEFT(A16,FIND(" ",A16,1)),Actuacions!$A$10:$D$3010,4)),A16=""),"",VLOOKUP(VALUE(LEFT(A16,FIND(" ",A16,1))),Actuacions!$A$10:$D$3010,4))
B17: =IF(OR(ISERROR(VLOOKUP(LEFT(A17,FIND(" ",A17,1)),Actuacions!$A$10:$D$3010,4)),A17=""),"",VLOOKUP(VALUE(LEFT(A17,FIND(" ",A17,1))),Actuacions!$A$10:$D$3010,4))
B18: =IF(OR(ISERROR(VLOOKUP(LEFT(A18,FIND(" ",A18,1)),Actuacions!$A$10:$D$3010,4)),A18=""),"",VLOOKUP(VALUE(LEFT(A18,FIND(" ",A18,1))),Actuacions!$A$10:$D$3010,4))
B19: =IF(OR(ISERROR(VLOOKUP(LEFT(A19,FIND(" ",A19,1)),Actuacions!$A$10:$D$3010,4)),A19=""),"",VLOOKUP(VALUE(LEFT(A19,FIND(" ",A19,1))),Actuacions!$A$10:$D$3010,4))
B20: =IF(OR(ISERROR(VLOOKUP(LEFT(A20,FIND(" ",A20,1)),Actuacions!$A$10:$D$3010,4)),A20=""),"",VLOOKUP(VALUE(LEFT(A20,FIND(" ",A20,1))),Actuacions!$A$10:$D$3010,4))
B21: =IF(OR(ISERROR(VLOOKUP(LEFT(A21,FIND(" ",A21,1)),Actuacions!$A$10:$D$3010,4)),A21=""),"",VLOOKUP(VALUE(LEFT(A21,FIND(" ",A21,1))),Actuacions!$A$10:$D$3010,4))
B22: =IF(OR(ISERROR(VLOOKUP(LEFT(A22,FIND(" ",A22,1)),Actuacions!$A$10:$D$3010,4)),A22=""),"",VLOOKUP(VALUE(LEFT(A22,FIND(" ",A22,1))),Actuacions!$A$10:$D$3010,4))
... B5010: =IF(OR(ISERROR(VLOOKUP(LEFT(A5010,FIND(" ",A5010,1)),Actuacions!$A$10:$D$3010,4)),A5010=""),"",VLOOKUP(VALUE(LEFT(A5010,FIND(" ",A5010,1))),Actuacions!$A$10:$D$3010,4))

Sheet Menors
B2: EXPEDIENT | C2: =Actuacions!C4 -> 0
B3: NIF | C3: =Actuacions!C5
B4: ENTITAT PROMOTORA | C4: =Actuacions!C6
B5: Projecte | C5: =Actuacions!C7
E6: Nombre de Participants menors d'edat
C7: MENORS | E7: =+SUM(E9:E1010) -> 0
A8: Referència (Selecciona un de la llista) | B8: Nom de l'actuació | C8: Grau estudis | D8: Nom centre educatiu | E8: Nombre participants
B9: =IF(OR(ISERROR(VLOOKUP(LEFT(A9,FIND(" ",A9,1)),Actuacions!$A$10:$D$3010,4)),A9=""),"",VLOOKUP(VALUE(LEFT(A9,FIND(" ",A9,1))),Actuacions!$A$10:$D$3010,4))
B10: =IF(OR(ISERROR(VLOOKUP(LEFT(A10,FIND(" ",A10,1)),Actuacions!$A$10:$D$3010,4)),A10=""),"",VLOOKUP(VALUE(LEFT(A10,FIND(" ",A10,1))),Actuacions!$A$10:$D$3010,4))
B11: =IF(OR(ISERROR(VLOOKUP(LEFT(A11,FIND(" ",A11,1)),Actuacions!$A$10:$D$3010,4)),A11=""),"",VLOOKUP(VALUE(LEFT(A11,FIND(" ",A11,1))),Actuacions!$A$10:$D$3010,4))
B12: =IF(OR(ISERROR(VLOOKUP(LEFT(A12,FIND(" ",A12,1)),Actuacions!$A$10:$D$3010,4)),A12=""),"",VLOOKUP(VALUE(LEFT(A12,FIND(" ",A12,1))),Actuacions!$A$10:$D$3010,4))
B13: =IF(OR(ISERROR(VLOOKUP(LEFT(A13,FIND(" ",A13,1)),Actuacions!$A$10:$D$3010,4)),A13=""),"",VLOOKUP(VALUE(LEFT(A13,FIND(" ",A13,1))),Actuacions!$A$10:$D$3010,4))
B14: =IF(OR(ISERROR(VLOOKUP(LEFT(A14,FIND(" ",A14,1)),Actuacions!$A$10:$D$3010,4)),A14=""),"",VLOOKUP(VALUE(LEFT(A14,FIND(" ",A14,1))),Actuacions!$A$10:$D$3010,4))
B15: =IF(OR(ISERROR(VLOOKUP(LEFT(A15,FIND(" ",A15,1)),Actuacions!$A$10:$D$3010,4)),A15=""),"",VLOOKUP(VALUE(LEFT(A15,FIND(" ",A15,1))),Actuacions!$A$10:$D$3010,4))
B16: =IF(OR(ISERROR(VLOOKUP(LEFT(A16,FIND(" ",A16,1)),Actuacions!$A$10:$D$3010,4)),A16=""),"",VLOOKUP(VALUE(LEFT(A16,FIND(" ",A16,1))),Actuacions!$A$10:$D$3010,4))
B17: =IF(OR(ISERROR(VLOOKUP(LEFT(A17,FIND(" ",A17,1)),Actuacions!$A$10:$D$3010,4)),A17=""),"",VLOOKUP(VALUE(LEFT(A17,FIND(" ",A17,1))),Actuacions!$A$10:$D$3010,4))
B18: =IF(OR(ISERROR(VLOOKUP(LEFT(A18,FIND(" ",A18,1)),Actuacions!$A$10:$D$3010,4)),A18=""),"",VLOOKUP(VALUE(LEFT(A18,FIND(" ",A18,1))),Actuacions!$A$10:$D$3010,4))
B19: =IF(OR(ISERROR(VLOOKUP(LEFT(A19,FIND(" ",A19,1)),Actuacions!$A$10:$D$3010,4)),A19=""),"",VLOOKUP(VALUE(LEFT(A19,FIND(" ",A19,1))),Actuacions!$A$10:$D$3010,4))
B20: =IF(OR(ISERROR(VLOOKUP(LEFT(A20,FIND(" ",A20,1)),Actuacions!$A$10:$D$3010,4)),A20=""),"",VLOOKUP(VALUE(LEFT(A20,FIND(" ",A20,1))),Actuacions!$A$10:$D$3010,4))
... B1010: =IF(OR(ISERROR(VLOOKUP(LEFT(A1010,FIND(" ",A1010,1)),Actuacions!$A$10:$D$3010,4)),A1010=""),"",VLOOKUP(VALUE(LEFT(A1010,FIND(" ",A1010,1))),Actuacions!$A$10:$D$3010,4))

Sheet PersonaInserida
B2: EXPEDIENT | C2: =Actuacions!C4 -> 0
B3: NIF | C3: =Actuacions!C5
B4: ENTITAT PROMOTORA | C4: =Actuacions!C6
B5: Projecte | C5: =Actuacions!C7 | E5: Nombre d'insercions:
B6: Pot estar lligat o no a una actuació | E6: =COUNTA(E9:E510) -> 0
C7: PERSONA INSERIDA
A8: Referència (Selecciona un de la llista) | B8: Nom actuació | C8: Cognoms | D8: Nom | E8: DNI o NIE persona inserida | F8: Data alta SS | G8: Data baixa SS | H8: Tipus de contracte o vinculació | I8: Gènere H=Home D=Dona NB=No binari | J8: Data naixement | K8: Municipi de la persona inserida | L8: NIF entitat on s'insereix | M8: Nom entitat on s'insereix | N8: Cercle/Ateneu
B9: =IF(OR(ISERROR(VLOOKUP(LEFT(A9,FIND(" ",A9,1)),Actuacions!$A$10:$D$3010,4)),A9=""),"",VLOOKUP(VALUE(LEFT(A9,FIND(" ",A9,1))),Actuacions!$A$10:$D$3010,4))
B10: =IF(OR(ISERROR(VLOOKUP(LEFT(A10,FIND(" ",A10,1)),Actuacions!$A$10:$D$3010,4)),A10=""),"",VLOOKUP(VALUE(LEFT(A10,FIND(" ",A10,1))),Actuacions!$A$10:$D$3010,4))
B11: =IF(OR(ISERROR(VLOOKUP(LEFT(A11,FIND(" ",A11,1)),Actuacions!$A$10:$D$3010,4)),A11=""),"",VLOOKUP(VALUE(LEFT(A11,FIND(" ",A11,1))),Actuacions!$A$10:$D$3010,4))
B12: =IF(OR(ISERROR(VLOOKUP(LEFT(A12,FIND(" ",A12,1)),Actuacions!$A$10:$D$3010,4)),A12=""),"",VLOOKUP(VALUE(LEFT(A12,FIND(" ",A12,1))),Actuacions!$A$10:$D$3010,4))
B13: =IF(OR(ISERROR(VLOOKUP(LEFT(A13,FIND(" ",A13,1)),Actuacions!$A$10:$D$3010,4)),A13=""),"",VLOOKUP(VALUE(LEFT(A13,FIND(" ",A13,1))),Actuacions!$A$10:$D$3010,4))
B14: =IF(OR(ISERROR(VLOOKUP(LEFT(A14,FIND(" ",A14,1)),Actuacions!$A$10:$D$3010,4)),A14=""),"",VLOOKUP(VALUE(LEFT(A14,FIND(" ",A14,1))),Actuacions!$A$10:$D$3010,4))
B15: =IF(OR(ISERROR(VLOOKUP(LEFT(A15,FIND(" ",A15,1)),Actuacions!$A$10:$D$3010,4)),A15=""),"",VLOOKUP(VALUE(LEFT(A15,FIND(" ",A15,1))),Actuacions!$A$10:$D$3010,4))
B16: =IF(OR(ISERROR(VLOOKUP(LEFT(A16,FIND(" ",A16,1)),Actuacions!$A$10:$D$3010,4)),A16=""),"",VLOOKUP(VALUE(LEFT(A16,FIND(" ",A16,1))),Actuacions!$A$10:$D$3010,4))
B17: =IF(OR(ISERROR(VLOOKUP(LEFT(A17,FIND(" ",A17,1)),Actuacions!$A$10:$D$3010,4)),A17=""),"",VLOOKUP(VALUE(LEFT(A17,FIND(" ",A17,1))),Actuacions!$A$10:$D$3010,4))
B18: =IF(OR(ISERROR(VLOOKUP(LEFT(A18,FIND(" ",A18,1)),Actuacions!$A$10:$D$3010,4)),A18=""),"",VLOOKUP(VALUE(LEFT(A18,FIND(" ",A18,1))),Actuacions!$A$10:$D$3010,4))
B19: =IF(OR(ISERROR(VLOOKUP(LEFT(A19,FIND(" ",A19,1)),Actuacions!$A$10:$D$3010,4)),A19=""),"",VLOOKUP(VALUE(LEFT(A19,FIND(" ",A19,1))),Actuacions!$A$10:$D$3010,4))
B20: =IF(OR(ISERROR(VLOOKUP(LEFT(A20,FIND(" ",A20,1)),Actuacions!$A$10:$D$3010,4)),A20=""),"",VLOOKUP(VALUE(LEFT(A20,FIND(" ",A20,1))),Actuacions!$A$10:$D$3010,4))
... B510: =IF(OR(ISERROR(VLOOKUP(LEFT(A510,FIND(" ",A510,1)),Actuacions!$A$10:$D$3010,4)),A510=""),"",VLOOKUP(VALUE(LEFT(A510,FIND(" ",A510,1))),Actuacions!$A$10:$D$3010,4))

Sheet EntitatCreada
B2: EXPEDIENT | C2: =Actuacions!C4 -> 0
B3: NIF | C3: =Actuacions!C5
B4: ENTITAT PROMOTORA | C4: =Actuacions!C6
B5: Projecte | C5: =Actuacions!C7 | D5: Nombre d'entitats:
B6: Pot estar lligat o no a una actuació | D6: =COUNTA(D9:D510) -> 0
C7: ENTITAT CREADA
A8: Referència (Selecciona un de la llista) | B8: Nom actuació | C8: Nom entitat | D8: NIF entitat | E8: Nom i cognoms persona de contacte | F8: Correu electrònic | G8: Telèfon | H8: Economia solidària (S/N) | I8: Cercle/Ateneu
B9: =IF(OR(ISERROR(VLOOKUP(LEFT(A9,FIND(" ",A9,1)),Actuacions!$A$10:$D$3010,4)),A9=""),"",VLOOKUP(VALUE(LEFT(A9,FIND(" ",A9,1))),Actuacions!$A$10:$D$3010,4))
B10: =IF(OR(ISERROR(VLOOKUP(LEFT(A10,FIND(" ",A10,1)),Actuacions!$A$10:$D$3010,4)),A10=""),"",VLOOKUP(VALUE(LEFT(A10,FIND(" ",A10,1))),Actuacions!$A$10:$D$3010,4))
B11: =IF(OR(ISERROR(VLOOKUP(LEFT(A11,FIND(" ",A11,1)),Actuacions!$A$10:$D$3010,4)),A11=""),"",VLOOKUP(VALUE(LEFT(A11,FIND(" ",A11,1))),Actuacions!$A$10:$D$3010,4))
B12: =IF(OR(ISERROR(VLOOKUP(LEFT(A12,FIND(" ",A12,1)),Actuacions!$A$10:$D$3010,4)),A12=""),"",VLOOKUP(VALUE(LEFT(A12,FIND(" ",A12,1))),Actuacions!$A$10:$D$3010,4))
B13: =IF(OR(ISERROR(VLOOKUP(LEFT(A13,FIND(" ",A13,1)),Actuacions!$A$10:$D$3010,4)),A13=""),"",VLOOKUP(VALUE(LEFT(A13,FIND(" ",A13,1))),Actuacions!$A$10:$D$3010,4))
B14: =IF(OR(ISERROR(VLOOKUP(LEFT(A14,FIND(" ",A14,1)),Actuacions!$A$10:$D$3010,4)),A14=""),"",VLOOKUP(VALUE(LEFT(A14,FIND(" ",A14,1))),Actuacions!$A$10:$D$3010,4))
B15: =IF(OR(ISERROR(VLOOKUP(LEFT(A15,FIND(" ",A15,1)),Actuacions!$A$10:$D$3010,4)),A15=""),"",VLOOKUP(VALUE(LEFT(A15,FIND(" ",A15,1))),Actuacions!$A$10:$D$3010,4))
B16: =IF(OR(ISERROR(VLOOKUP(LEFT(A16,FIND(" ",A16,1)),Actuacions!$A$10:$D$3010,4)),A16=""),"",VLOOKUP(VALUE(LEFT(A16,FIND(" ",A16,1))),Actuacions!$A$10:$D$3010,4))
B17: =IF(OR(ISERROR(VLOOKUP(LEFT(A17,FIND(" ",A17,1)),Actuacions!$A$10:$D$3010,4)),A17=""),"",VLOOKUP(VALUE(LEFT(A17,FIND(" ",A17,1))),Actuacions!$A$10:$D$3010,4))
B18: =IF(OR(ISERROR(VLOOKUP(LEFT(A18,FIND(" ",A18,1)),Actuacions!$A$10:$D$3010,4)),A18=""),"",VLOOKUP(VALUE(LEFT(A18,FIND(" ",A18,1))),Actuacions!$A$10:$D$3010,4))
B19: =IF(OR(ISERROR(VLOOKUP(LEFT(A19,FIND(" ",A19,1)),Actuacions!$A$10:$D$3010,4)),A19=""),"",VLOOKUP(VALUE(LEFT(A19,FIND(" ",A19,1))),Actuacions!$A$10:$D$3010,4))
B20: =IF(OR(ISERROR(VLOOKUP(LEFT(A20,FIND(" ",A20,1)),Actuacions!$A$10:$D$3010,4)),A20=""),"",VLOOKUP(VALUE(LEFT(A20,FIND(" ",A20,1))),Actuacions!$A$10:$D$3010,4))
... B510: =IF(OR(ISERROR(VLOOKUP(LEFT(A510,FIND(" ",A510,1)),Actuacions!$A$10:$D$3010,4)),A510=""),"",VLOOKUP(VALUE(LEFT(A510,FIND(" ",A510,1))),Actuacions!$A$10:$D$3010,4))

Sheet Acompanyaments
B2: EXPEDIENT | C2: =Actuacions!C4 -> 0
B3: NIF | C3: =Actuacions!C5
B4: ENTITAT PROMOTORA | C4: =Actuacions!C6
B5: Projecte | C5: =Actuacions!C7
B6: Tot i que s’hagin realitzat diverses sessions d’acompanyament, seleccioneu un únic codi/actuació d’acompanyament per projecte.
C7: Nombre d'acompanyaments: | J7: Hores totals:
C8: =COUNTA(C11:C510) -> 0 | J8: =SUM(J11:J510) -> 0
C9: ACOMPANYAMENTS
A10: Referència (Selecciona un de la llista) | B10: Nom actuació | C10: Destinatari de l'acompanyament | D10: En cas d'entitat (nom de l'entitat) | E10: Situació entitat | F10: Creació/consolidació | G10: Data d'inici | H10: Municipi | I10: Breu descripció del projecte | J10: Total hores d'acompanyament
B11: =IF(OR(ISERROR(VLOOKUP(LEFT(A11,FIND(" ",A11,1)),Actuacions!$A$10:$D$3010,4)),A11=""),"",VLOOKUP(VALUE(LEFT(A11,FIND(" ",A11,1))),Actuacions!$A$10:$D$3010,4))
B12: =IF(OR(ISERROR(VLOOKUP(LEFT(A12,FIND(" ",A12,1)),Actuacions!$A$10:$D$3010,4)),A12=""),"",VLOOKUP(VALUE(LEFT(A12,FIND(" ",A12,1))),Actuacions!$A$10:$D$3010,4))
B13: =IF(OR(ISERROR(VLOOKUP(LEFT(A13,FIND(" ",A13,1)),Actuacions!$A$10:$D$3010,4)),A13=""),"",VLOOKUP(VALUE(LEFT(A13,FIND(" ",A13,1))),Actuacions!$A$10:$D$3010,4))
B14: =IF(OR(ISERROR(VLOOKUP(LEFT(A14,FIND(" ",A14,1)),Actuacions!$A$10:$D$3010,4)),A14=""),"",VLOOKUP(VALUE(LEFT(A14,FIND(" ",A14,1))),Actuacions!$A$10:$D$3010,4))
B15: =IF(OR(ISERROR(VLOOKUP(LEFT(A15,FIND(" ",A15,1)),Actuacions!$A$10:$D$3010,4)),A15=""),"",VLOOKUP(VALUE(LEFT(A15,FIND(" ",A15,1))),Actuacions!$A$10:$D$3010,4))
B16: =IF(OR(ISERROR(VLOOKUP(LEFT(A16,FIND(" ",A16,1)),Actuacions!$A$10:$D$3010,4)),A16=""),"",VLOOKUP(VALUE(LEFT(A16,FIND(" ",A16,1))),Actuacions!$A$10:$D$3010,4))
B17: =IF(OR(ISERROR(VLOOKUP(LEFT(A17,FIND(" ",A17,1)),Actuacions!$A$10:$D$3010,4)),A17=""),"",VLOOKUP(VALUE(LEFT(A17,FIND(" ",A17,1))),Actuacions!$A$10:$D$3010,4))
B18: =IF(OR(ISERROR(VLOOKUP(LEFT(A18,FIND(" ",A18,1)),Actuacions!$A$10:$D$3010,4)),A18=""),"",VLOOKUP(VALUE(LEFT(A18,FIND(" ",A18,1))),Actuacions!$A$10:$D$3010,4))
B19: =IF(OR(ISERROR(VLOOKUP(LEFT(A19,FIND(" ",A19,1)),Actuacions!$A$10:$D$3010,4)),A19=""),"",VLOOKUP(VALUE(LEFT(A19,FIND(" ",A19,1))),Actuacions!$A$10:$D$3010,4))
B20: =IF(OR(ISERROR(VLOOKUP(LEFT(A20,FIND(" ",A20,1)),Actuacions!$A$10:$D$3010,4)),A20=""),"",VLOOKUP(VALUE(LEFT(A20,FIND(" ",A20,1))),Actuacions!$A$10:$D$3010,4))
B21: =IF(OR(ISERROR(VLOOKUP(LEFT(A21,FIND(" ",A21,1)),Actuacions!$A$10:$D$3010,4)),A21=""),"",VLOOKUP(VALUE(LEFT(A21,FIND(" ",A21,1))),Actuacions!$A$10:$D$3010,4))
B22: =IF(OR(ISERROR(VLOOKUP(LEFT(A22,FIND(" ",A22,1)),Actuacions!$A$10:$D$3010,4)),A22=""),"",VLOOKUP(VALUE(LEFT(A22,FIND(" ",A22,1))),Actuacions!$A$10:$D$3010,4))
... B510: =IF(OR(ISERROR(VLOOKUP(LEFT(A510,FIND(" ",A510,1)),Actuacions!$A$10:$D$3010,4)),A510=""),"",VLOOKUP(VALUE(LEFT(A510,FIND(" ",A510,1))),Actuacions!$A$10:$D$3010,4))

Sheet Resum Serveis
B2: EXPEDIENT | C2: =Actuacions!C4 -> 0
B3: NIF | C3: =Actuacions!C5
B4: ENTITAT PROMOTORA | C4: =Actuacions!C6
B5: Projecte | C5: =Actuacions!C7
B8: Quadre Resum per serveis
B10: Servei (desglossat per tipus d'actuació) | C10: Nombre d'actuacions fetes: | D10: Nombre total de participants:
B11: 1) Mapeig i diagnosi | C11: =+COUNTIF(Actuacions!$B$11:$B$3010,B11) -> 0 | D11: =+SUMIF(Actuacions!$B$11:$B$3010,'Resum Serveis'!B11,Actuacions!$J$11:$J$3010) -> 0
B12: =+Paràmetres!U2 -> 1 a Taula territorial per l'articulació conjunta de l'economia social amb els diversos actors. | C12: =+COUNTIF(Actuacions!$C$11:$C$3010,B12) -> 0 | D12: =+SUMIF(Actuacions!$C$11:$C$3010,'Resum Serveis'!B12,Actuacions!$J$11:$J$3010) -> 0
B13: =+Paràmetres!U3 -> 1 b Elaboració d'un catàleg bones pràctiques. | C13: =+COUNTIF(Actuacions!$C$11:$C$3010,B13) -> 0 | D13: =+SUMIF(Actuacions!$C$11:$C$3010,'Resum Serveis'!B13,Actuacions!$J$11:$J$3010) -> 0
B14: =+Paràmetres!U4 -> 1 c Organització de jornades, assistència a fires, actes i premis, trobades sectorials i col·laboracions. | C14: =+COUNTIF(Actuacions!$C$11:$C$3010,B14) -> 0 | D14: =+SUMIF(Actuacions!$C$11:$C$3010,'Resum Serveis'!B14,Actuacions!$J$11:$J$3010) -> 0
B15: =+Paràmetres!U5 -> 1 d Altres accions dins del servei de mapeig i diagnosi. | C15: =+COUNTIF(Actuacions!$C$11:$C$3010,B15) -> 0 | D15: =+SUMIF(Actuacions!$C$11:$C$3010,'Resum Serveis'!B15,Actuacions!$J$11:$J$3010) -> 0
B16: 2) Divulgació, sensibilització i generació coneixement | C16: =+COUNTIF(Actuacions!$B$11:$B$3010,B16) -> 0 | D16: =+SUMIF(Actuacions!$B$11:$B$3010,'Resum Serveis'!B16,Actuacions!$J$11:$J$3010) -> 0
B17: =+Paràmetres!U6 -> 2 a Campanya de comunicació i difusió col·lectius especial atenció. Materials difusió fórmula cooperativa. | C17: =+COUNTIF(Actuacions!$C$11:$C$3010,B17) -> 0 | D17: =+SUMIF(Actuacions!$C$11:$C$3010,'Resum Serveis'!B17,Actuacions!$J$11:$J$3010) -> 0
B18: =+Paràmetres!U7 -> 2 b Tallers dirigits a joves estudiants de cicles formatius. | C18: =+COUNTIF(Actuacions!$C$11:$C$3010,B18) -> 0 | D18: =+SUMIF(Actuacions!$C$11:$C$3010,'Resum Serveis'!B18,Actuacions!$J$11:$J$3010) -> 0
B19: =+Paràmetres!U8 -> 2 c Accions per a la creació de diferents classes de cooperatives. | C19: =+COUNTIF(Actuacions!$C$11:$C$3010,B19) -> 0 | D19: =+SUMIF(Actuacions!$C$11:$C$3010,'Resum Serveis'!B19,Actuacions!$J$11:$J$3010) -> 0
B20: =+Paràmetres!U9 -> 2 d Diagnosi sobre les mancances i oportunitats socioeconòmiques i identificació empreses participants. | C20: =+COUNTIF(Actuacions!$C$11:$C$3010,B20) -> 0 | D20: =+SUMIF(Actuacions!$C$11:$C$3010,'Resum Serveis'!B20,Actuacions!$J$11:$J$3010) -> 0
B21: =+Paràmetres!U10 -> 2 e Sessions col·lectives i d'acompanyament expert individual. | C21: =+COUNTIF(Actuacions!$C$11:$C$3010,B21) -> 0 | D21: =+SUMIF(Actuacions!$C$11:$C$3010,'Resum Serveis'!B21,Actuacions!$J$11:$J$3010) -> 0
B22: =+Paràmetres!U11 -> 2 f Altres accions dins del servei de divulgació, sensibilització i generació de coneixement. | C22: =+COUNTIF(Actuacions!$C$11:$C$3010,B22) -> 0 | D22: =+SUMIF(Actuacions!$C$11:$C$3010,'Resum Serveis'!B22,Actuacions!$J$11:$J$3010) -> 0
B23: 3) Formació per a la promoció, creació i consolidació | C23: =+COUNTIF(Actuacions!$B$11:$B$3010,B23) -> 0 | D23: =+SUMIF(Actuacions!$B$11:$B$3010,'Resum Serveis'!B23,Actuacions!$J$11:$J$3010) -> 0
B24: =+Paràmetres!U12 -> 3 a Accions formatives i informatives. | C24: =+COUNTIF(Actuacions!$C$11:$C$3010,B24) -> 0 | D24: =+SUMIF(Actuacions!$C$11:$C$3010,'Resum Serveis'!B24,Actuacions!$J$11:$J$3010) -> 0
B25: =+Paràmetres!U13 -> 3 b Tallers de formació bàsica a persones emprenedores interessades en la fòrmula cooperativa. | C25: =+COUNTIF(Actuacions!$C$11:$C$3010,B25) -> 0 | D25: =+SUMIF(Actuacions!$C$11:$C$3010,'Resum Serveis'!B25,Actuacions!$J$11:$J$3010) -> 0
B26: =+Paràmetres!U14 -> 3 c Sessions col·lectives. | C26: =+COUNTIF(Actuacions!$C$11:$C$3010,B26) -> 0 | D26: =+SUMIF(Actuacions!$C$11:$C$3010,'Resum Serveis'!B26,Actuacions!$J$11:$J$3010) -> 0
B27: =+Paràmetres!U15 -> 3 d Acompanyament expert. | C27: =+COUNTIF(Actuacions!$C$11:$C$3010,B27) -> 0 | D27: =+SUMIF(Actuacions!$C$11:$C$3010,'Resum Serveis'!B27,Actuacions!$J$11:$J$3010) -> 0
B28: =+Paràmetres!U16 -> 3 e Tallers de sensibilització o dinamització adreçada al teixit associatiu, empreses o professionals. | C28: =+COUNTIF(Actuacions!$C$11:$C$3010,B28) -> 0 | D28: =+SUMIF(Actuacions!$C$11:$C$3010,'Resum Serveis'!B28,Actuacions!$J$11:$J$3010) -> 0
B29: =+Paràmetres!U17 -> 3 f Altres accions dins del servei de formació. | C29: =+COUNTIF(Actuacions!$C$11:$C$3010,B29) -> 0 | D29: =+SUMIF(Actuacions!$C$11:$C$3010,'Resum Serveis'!B29,Actuacions!$J$11:$J$3010) -> 0
B30: 4) Acompanyament per a la creació i consolidació | C30: =+COUNTIF(Actuacions!$B$11:$B$3010,B30) -> 0 | D30: =+SUMIF(Actuacions!$B$11:$B$3010,'Resum Serveis'!B30,Actuacions!$J$11:$J$3010) -> 0
B31: =+Paràmetres!U18 -> 4 a Assessorament a mida per a la creació de cooperatives i altres organitzacions d'ESS. | C31: =+COUNTIF(Actuacions!$C$11:$C$3010,B31) -> 0 | D31: =+SUMIF(Actuacions!$C$11:$C$3010,'Resum Serveis'!B31,Actuacions!$J$11:$J$3010) -> 0
B32: =+Paràmetres!U19 -> 4 b Acompanyament a la consolidació i creixement de cooperatives existents. | C32: =+COUNTIF(Actuacions!$C$11:$C$3010,B32) -> 0 | D32: =+SUMIF(Actuacions!$C$11:$C$3010,'Resum Serveis'!B32,Actuacions!$J$11:$J$3010) -> 0
B33: =+Paràmetres!U20 -> 4 c Acompanyament a la transformació d'empreses. | C33: =+COUNTIF(Actuacions!$C$11:$C$3010,B33) -> 0 | D33: =+SUMIF(Actuacions!$C$11:$C$3010,'Resum Serveis'!B33,Actuacions!$J$11:$J$3010) -> 0
B34: =+Paràmetres!U21 -> 4 d Campanya de comunicació i difusió. | C34: =+COUNTIF(Actuacions!$C$11:$C$3010,B34) -> 0 | D34: =+SUMIF(Actuacions!$C$11:$C$3010,'Resum Serveis'!B34,Actuacions!$J$11:$J$3010) -> 0
B35: =+Paràmetres!U22 -> 4 e Accions de sensibilització o dinamització. | C35: =+COUNTIF(Actuacions!$C$11:$C$3010,B35) -> 0 | D35: =+SUMIF(Actuacions!$C$11:$C$3010,'Resum Serveis'!B35,Actuacions!$J$11:$J$3010) -> 0
B36: =+Paràmetres!U23 -> 4 f Altres accions dins del servei d'acompanyament. | C36: =+COUNTIF(Actuacions!$C$11:$C$3010,B36) -> 0 | D36: =+SUMIF(Actuacions!$C$11:$C$3010,'Resum Serveis'!B36,Actuacions!$J$11:$J$3010) -> 0
B37: 5) Facilitació intercooperació, treball en xarxa i dinamització territori | C37: =+COUNTIF(Actuacions!$B$11:$B$3010,B37) -> 0 | D37: =+SUMIF(Actuacions!$B$11:$B$3010,'Resum Serveis'!B37,Actuacions!$J$11:$J$3010) -> 0
B38: =+Paràmetres!U24 -> 5 a Generar espai d'intercooperació i treball en xarxa dins del territori. | C38: =+COUNTIF(Actuacions!$C$11:$C$3010,B38) -> 0 | D38: =+SUMIF(Actuacions!$C$11:$C$3010,'Resum Serveis'!B38,Actuacions!$J$11:$J$3010) -> 0
B39: =+Paràmetres!U25 -> 5 b Incorporació d'empreses a l'ateneu cooperatiu i assemblea. | C39: =+COUNTIF(Actuacions!$C$11:$C$3010,B39) -> 0 | D39: =+SUMIF(Actuacions!$C$11:$C$3010,'Resum Serveis'!B39,Actuacions!$J$11:$J$3010) -> 0
B40: =+Paràmetres!U26 -> 5 c Treball en xarxa amb altres ateneus (reunions i iniciatives conjuntes). | C40: =+COUNTIF(Actuacions!$C$11:$C$3010,B40) -> 0 | D40: =+SUMIF(Actuacions!$C$11:$C$3010,'Resum Serveis'!B40,Actuacions!$J$11:$J$3010) -> 0
B41: =+Paràmetres!U27 -> 5 d Altres accions dins del servei de facilitació. | C41: =+COUNTIF(Actuacions!$C$11:$C$3010,B41) -> 0 | D41: =+SUMIF(Actuacions!$C$11:$C$3010,'Resum Serveis'!B41,Actuacions!$J$11:$J$3010) -> 0
B42: 6) Punt d'informació sobre ESS | C42: =+COUNTIF(Actuacions!$B$11:$B$3010,B42) -> 0 | D42: =+SUMIF(Actuacions!$B$11:$B$3010,'Resum Serveis'!B42,Actuacions!$J$11:$J$3010) -> 0
B43: =+Paràmetres!U28 -> 6 a Espai físic per proporcional informació sobre ESS a diferents públics. | C43: =+COUNTIF(Actuacions!$C$11:$C$3010,B43) -> 0 | D43: =+SUMIF(Actuacions!$C$11:$C$3010,'Resum Serveis'!B43,Actuacions!$J$11:$J$3010) -> 0
B44: =+Paràmetres!U29 -> 6 b Difusió del punt o punts d'informació. | C44: =+COUNTIF(Actuacions!$C$11:$C$3010,B44) -> 0 | D44: =+SUMIF(Actuacions!$C$11:$C$3010,'Resum Serveis'!B44,Actuacions!$J$11:$J$3010) -> 0
B45: 7) Serveis Complementaris | C45: =+COUNTIF(Actuacions!$B$11:$B$3010,B45) -> 0 | D45: =+SUMIF(Actuacions!$B$11:$B$3010,'Resum Serveis'!B45,Actuacions!$J$11:$J$3010) -> 0
B46: Total | C46: =+C11+C16+C23+C30+C37+C42+C45 -> 0 | D46: =+D11+D16+D23+D30+D37+D42+D45 -> 0
B48: Recordeu que el nombre d'actuacions i el nombre de participants que s'incorpori en aquest fitxer ha de coincidir amb les dades que divulgueu amb qualsevol altra finalitat.
B51: Quadre Resum de Participants
B52: Nombre Total de Participants (Participants+Menors) | C52: =+SUM(C53:C54) -> 0
B53: Nombre de participants majors d'edat | C53: =+Participants!C8 -> 0
B54: Nombre de participants menors d'edat | C54: =+Menors!E7 -> 0
B55: Nombre Total de Participants (Actuacions) | C55: =+Actuacions!J9 -> 0
B56: Diferència entre (Participants+Menors) i (Actuacions) | C56: =+C52-C55 -> 0
B58: El nombre de participants que afegiu a les pestanyes 'Participants' i 'Menors' han de coincidir amb el nombre total de participants de la pestanya 'Actuacions'.

Sheet Paràmetres
A1: EXPEDIENT | B1: NIF | C1: ENTITAT | D1: PROJECTE | E1: SEC030_21_000015 | F1: SEC030_21_000017 | G1: SEC030_21_000025 | H1: SEC030_21_000027 | I1: SEC030_21_000051 | J1: SEC030_21_000054 | K1: SEC030_21_000063 | L1: SEC030_21_000067 | M1: SEC030_21_000073 | N1: SEC030_21_000076 | O1: SEC030_21_000079 | P1: SEC030_21_000089 | Q1: SEC030_21_000096 | R1: SEC030_21_000135 | S1: SERVEIS | T1: SERVEI abreujat | U1: NOM ACCIO_RESUMIT | V1: MUNICIPI | W1: SEXE | X1: CODI SI_NO | Y1: grau estudis | Z1: Nivell curs | AA1: tipus contracte | AB1: Destinatari | AC1: CasEmpresa | AD1: Creació/consolidació | AE1: Any constitució | AF1: Cercle/Ateneu
A2: SEC030_21_000015 | B2: F63851430 | C2: LA CIUTAT INVISIBLE, SCCL | D2: COÒPOLIS - ATENEU COOPERATIU DE BARCELONA | E2: LA CIUTAT INVISIBLE, SCCL | F2: La Fundició SCCL | G2: CONSELL COMARCAL DEL PALLARS JUSSÀ | H2: GEDI GESTIÓ I DISSENY SCCL | I2: FUNDACIO EL 7 D'ASTRES | J2: L'EIXIDA DEL TELER SCCL | K2: Doble Via, SCCL | L2: Associació Entrem-hi | M2: La sargantana dalt de la vila SCCL | N2: Fundació Privada Gentis | O2: Fundació Unió de Cooperadors de Mataró | P2: Consell Comarcal del Baix Llobregat | Q2: FLECA L'ARESTA SCCL | R2: LLEURE QUALIA SCCL | S2: 1) Mapeig i diagnosi | T2: 1 | U2: 1 a Taula territorial per l'articulació conjunta de l'economia social amb els diversos actors. | V2: ABELLA DE LA CONCA | W2: H | X2: Sí | Y2: Primària | Z2: Primer | AA2: Indefinit | AB2: Persona física | AC2: Constituïda | AD2: Nova creació | AE2: 2021 | AF2: Ateneu
A3: SEC030_21_000017 | B3: F64229230 | C3: LaFundició, SCCL | D3: Ateneu Cooperatiu La Col·lectiva | E3: LA PERA COMUNICACIÓ, SCCL | F3: Tarpuna SCCL | G3: CONSELL COMARCAL DEL PALLARS SOBIRÀ | H3: EI SAMBUCUS SCCL | I3: FUNDACIO PRIVADA ULLDECONA | J3: ARQBAG SCCL | K3: Facto Assessors, SCCLP | L3: Bildi Grafiks SCCCL | M3: CervesaCapfoguer, SCCL | N3: I-LabSo SCCL | O3: L’Esberla SCCL | P3: SOM GESTIO SCCL | Q3: L'Economat SCCL | R3: TRES CADIRES | S3: 2) Divulgació, sensibilització i generació coneixement | T3: 1 | U3: 1 b Elaboració d'un catàleg bones pràctiques. | V3: ABRERA | W3: D | X3: No | Y3: Secundària obligatòria | Z3: Segon | AA3: Temporal | AB3: Promotor del projecte | AC3: En procés de constitució | AD3: Creixement | AE3: 2022 | AF3: Cercle 1
A4: SEC030_21_000025 | B4: P7500014A | C4: CONSELL COMARCAL DEL PALLARS JUSSÀ | D4: PROJECTE ATENEU COOPERATIU DE L'ALT PIRINEU I ARAN | E4: COL·LECTIU RONDA, SCCL | F4: Assemblea de Cooperació per la Pau | G4: CONSELL COMARCAL DE L'ALTA RIBAGORÇA | H4: SET C SCCL | I4: AJUNTAMENT D'ULLDECONA | J4: EL RODAL SCCL | K4: Ensó, SCCL | L4: Actua SCCCL | M4: Femprocomuns SCCL | N4: Associació Grup d'Acció Local Pesquer Costa Brava | O4: FUNDACIÓ PRIVADA DEL MARESME PRO PERSONES AMB DISMINUCIÓ PSÍQUICA | P4: CREARSA SCCL | Q4: Col3lectiu Ronda SCCL | R4: EL RISELL | S4: 3) Formació per a la promoció, creació i consolidació | T4: 1 | U4: 1 c Organització de jornades, assistència a fires, actes i premis, trobades sectorials i col·laboracions. | V4: ÀGER | W4: NB | Y4: Batxillerat | Z4: Tercer | AA4: Soci/a cooperativa o societat laboral | AB4: Entitat | AC4: No finalitzat | AE4: 2023 | AF4: Cercle 2
A5: SEC030_21_000027 | B5: F59128041 | C5: GEDI GESTIÓ I DISSENY SCCL | D5: ATENEU COOPERATIU DE LA CATALUNYA CENTRAL | E5: COOPNET, SCCL | F5: Espai Brotes SCCL | G5: CONSELL COMARCAL DE L'ALT URGELL | H5: DIES D'AGOST SCCL | I5: AJUNTAMENT D'AMPOSTA | J5: FILIGRANA PRODUCCIONS 360 SCCL | K5: Apindep Ronçana, SCCL | L5: Cal Trajo SCCCL | M5: El Círcol de Badalona | N5: RESILIENCE EARTH, SCCL | O5: FACTO COOPERATIVA SCCLP | P5: DOMINGO RECREATIVOS SCCL | Q5: Milmans Assessoria SCCLP | R5: INDUSTRIAL DE GÈNERE DE PUNT JOHN FIL | S5: 4) Acompanyament per a la creació i consolidació | T5: 1 | U5: 1 d Altres accions dins del servei de mapeig i diagnosi. | V5: AGRAMUNT | Y5: Formació professional grau mig | Z5: Quart | AE5: 2024 | AF5: Cercle 3
A6: SEC030_21_000051 | B6: G66149162 | C6: Fundació El 7 d'Astres | D6: Ateneu Cooperatiu de les Terres de l'Ebre | E6: ASSOCIACIÓ COÒPOLIS | F6: Districte7 L'Hospitalet de Llobregat SCCL | G6: CONSELL COMARCAL DE LA CERDANYA | H6: CAE, formació i serveis socioculturals | I6: AJUNTAMENT DE TORTOSA | J6: LA SÀRRIA SCCL | K6: Afadis Baix Montseny, SCCL | L6: Contrapunt | M6: GRAMEIMPULS, SA | N6: FCP Assoiats, SCCL (La Qperativa) | O6: Clack Audiovisual, SCCL | P6: Aj El Prat | Q6: el Far Cooperatiu SCCL | R6: LES OBAGUES EINES EDUCATIVES | S6: 5) Facilitació intercooperació, treball en xarxa i dinamització territori | T6: 2 | U6: 2 a Campanya de comunicació i difusió col·lectius especial atenció. Materials difusió fórmula cooperativa. | V6: AGUILAR DE SEGARRA | Y6: Formació professional grau superior | Z6: Cinquè | AF6: Cercle 4
A7: SEC030_21_000054 | B7: F67624270 | C7: L'EIXIDA DEL TELER SCCL | D7: ATENEU COOPERATIU DEL VALLÈS OCCIDENTAL | E7: TRAMA, SCCL | F7: Associació Keras Buti | G7: CONSELH GENERAU D'ARAN | H7: COOPERATIVA MAS LES VINYES SCCL | I7: SURTDECASA, SCCL | J7: SPRINT COOP SCCL | K7: Abacus, SCCL | L7: Economat SCCL | M7: Ajuntament de Badalona | N7: Avancem Santa Clara , SCCL | O7: Musicop SCCL | P7: ASSOCIACIÓ PLEGATS PER LECONOMIA SOLIDA | Q7: Produccions Saurines SCCL | R7: ASSOCIACIÓ ALBA | S7: 6) Punt d'informació sobre ESS | T7: 2 | U7: 2 b Tallers dirigits a joves estudiants de cicles formatius. | V7: AGULLANA | Z7: Sisè
A8: SEC030_21_000063 | B8: F62011812 | C8: Doble Via, SCCL | D8: Ateneu Cooperatiu del Vallès Oriental | E8: EKONOMIKON, SCCL | F8: Mujeres Palante SCCL | G8: Alba Jussà, SCCL | H8: ASSOCIACIÓ DE PRODUCTORS I CONSUMIDORS MENGEM OSONA | I8: EPI, ENERGIA POR LA IGUALDAD, SCCL | J8: LA NATURAL | K8: EQUIP TÈCNIC ATENEU | L8: Camerata SCCL | M8: La fàbrica SCCL | N8: Divertus, SCCL | O8: Folk You Sccl | P8: LA CLAQUETA SOCIAL | Q8: L'Escamot SCCL | R8: L'OLIVERA | S8: 7) Serveis Complementaris | T8: 2 | U8: 2 c Accions per a la creació de diferents classes de cooperatives. | V8: AIGUAFREDA
A9: SEC030_21_000067 | B9: F61797197 | C9: ENTREM, SCCL | D9: Coopsetania, Ateneu Cooperatiu Penedès | E9: L'ESGUARD, SCCL | F9: Associació Benestar i Desenvolupament | G9: INCORPORA'M, SCCL | H9: FRESCOOP SCCL | I9: ALC ASSESSORS, SCCL | J9: POL.LEN EDICIONS | L9: Arqueovitis SCCL | M9: Disseny Integral de Projectes, DIP SCCL | N9: Assoc.Social Project 4.0 | O9: FUNDACIÓ CEO DEL MARESME | P9: GRUPS ASSOCIATS PEL TREBALL SOCIOCULTURAL | Q9: INSTA-Serveis Jurídics Ambientals SCCLP | R9: STALEGLAB | T9: 2 | U9: 2 d Diagnosi sobre les mancances i oportunitats socioeconòmiques i identificació empreses participants. | V9: AIGUAMÚRCIA
A10: SEC030_21_000073 | B10: F61165437 | C10: LA SARGANTANA DALT DE LA VILA SCCL | D10: ATENEU COOPERATIU BARCELONÈS NORD | E10: REFLEXES, SCCL | F10: Gracer Coop SCCL | G10: ACTUA, SCCL | H10: CASA DE LA MÚSICA | I10: EQUIP TÈCNIC ATENEU | J10: ATENEU CANDELA | L10: La Fura Continguts SCCL | M10: EQUIP TÈCNIC ATENEU | N10: Arran de terra , SCCL | O10: Tuataramente SCCL | P10: EH! COOP | Q10: Cooperativa Obrera Tarraconense | R10: EQUIP TÈCNIC ATENEU | T10: 2 | U10: 2 e Sessions col·lectives i d'acompanyament expert individual. | V10: AIGUAVIVA
A11: SEC030_21_000076 | B11: G17679267 | C11: Fundació Privada Gentis | D11: Ateneu Cooperatiu Terres Gironines | E11: Associació Migració i Economia social i solidària MIGRESS | F11: EQUIP TÈCNIC ATENEU | G11: ENSO SCCL | H11: CULTURA21 | J11: ASSOC. TELER COOPERATIU | L11: Facto Cooperativa SCCLP | N11: La Sobirana, SCCL | O11: Hobest, sccl | P11: MESSCLA DEL BAIX LLOBREGAT | Q11: icària Acció socio-educativa SCCL | T11: 2 | U11: 2 f Altres accions dins del servei de divulgació, sensibilització i generació de coneixement. | V11: AITONA
A12: SEC030_21_000079 | B12: G63920706 | C12: FUNDACIÓ UNIÓ DE COOPERADORS DE MATARÓ | D12: COOP MARESME | E12: La Tregua. Arte y transformación social, SCCl | G12: COOPD'ERA, SCCL | H12: TXARANGO SCCL | J12: LA PRODUCTORA SCCL | L12: EQUIP TÈCNIC ATENEU | N12: Fundació Emys | O12: Agència Talaia SCCL | P12: LA LLANÇADORA DEL BAIX LLOBREGAT | Q12: La Caseta de l'Arbre | T12: 3 | U12: 3 a Accions formatives i informatives. | V12: ALAMÚS, ELS
A13: SEC030_21_000089 | B13: P5800011H | C13: Consell Comarcal del Baix Llobregat | D13: Ateneu Cooperatiu del Baix Llobregat | E13: Cooperativa Abarka, SCCL | G13: EL REFUGI, LLIBRERIA CRÍTICA SCCL | H13: EQUIP TÈCNIC ATENEU | J13: EQUIP TÈCNIC ATENEU | N13: Cultural Rizoma, SCCL | O13: Fundació Tecnocampus Mataró-Maresme | P13: ILLA COOPERATIVA DE SERVEIS | Q13: EL BROT SCCL | T13: 3 | U13: 3 b Tallers de formació bàsica a persones emprenedores interessades en la fòrmula cooperativa. | V13: ALÀS I CERC
A14: SEC030_21_000096 | B14: F55610190 | C14: FLECA L'ARESTA SCCL | D14: ATENEU COOPERATIU DEL CAMP DE TARRAGONA | E14: LA DINAMO FUNDACIÓ PRIVADA | G14: EQUIP TÈCNIC ATENEU | N14: Associació Gestió Integral Serveis Socioculturals Idea | O14: EQUIP TÈCNIC ATENEU | P14: Calidoscoop SCCL | Q14: PRIOR(IT)AT PAISATGE CULTURAL PATRIMONI | T14: 3 | U14: 3 c Sessions col·lectives. | V14: ALBAGÉS, L'
A15: SEC030_21_000135 | B15: F25850421 | C15: LLEURE QUALIA SCCL | D15: PONENT COOPERA | E15: Sostre Cívic Associació | N15: Idària, SCCL | P15: Cooperativa Obrera de Viviendas, SCCL | Q15: Agrícola Falset Marçà i S.C. AFALMA SCCL | T15: 3 | U15: 3 d Acompanyament expert. | V15: ALBANYÀ
E16: BATEC Pol cooperatiu per la transició energètica | N16: EQUIP TÈCNIC ATENEU | P16: La Rachola, SCCL | Q16: ASSOC. PER AL DESENVOLUPAMENT INTEGRAL DE LA VALL DEL CORB | T16: 3 | U16: 3 e Tallers de sensibilització o dinamització adreçada al teixit associatiu, empreses o professionals. | V16: ALBATÀRREC
E17: Espai Ambiental SCCL | P17: Facto cooperativa, SCCLP | Q17: CELLERS DOMENYS I SECC.CREDIT SCCL | T17: 3 | U17: 3 f Altres accions dins del servei de formació. | V17: ALBESA
E18: Opcions de Consum Responsable, SCCL | P18: HERES SOCIAL SCCL | Q18: Camins Km0 SCCL | T18: 4 | U18: 4 a Assessorament a mida per a la creació de cooperatives i altres organitzacions d'ESS. | V18: ALBI, L'
E19: Supermercat Cooperatiu i Participatiu BCN SCCL (FoodCoop BCN) | P19: FCP Associats SCCL | Q19: Actua SCCL | T19: 4 | U19: 4 b Acompanyament a la consolidació i creixement de cooperatives existents. | V19: ALBINYANA
E20: Almena Cooperativa Feminista, SCCL | P20: El Mecànic Audiovisual SCCL | Q20: Fundació Privada Formació i Treball | T20: 4 | U20: 4 c Acompanyament a la transformació d'empreses. | V20: ALBIOL, L'
E21: Equilatera Cooperativa SCCL | P21: Associació Innobaix | Q21: L'Escac SCCL | T21: 4 | U21: 4 d Campanya de comunicació i difusió. | V21: ALBONS
E22: COS COOPERACIÓ I SALUT SCCL | P22: Ajuntament de Viladecans | Q22: EQUIP TÈCNIC ATENEU | T22: 4 | U22: 4 e Accions de sensibilització o dinamització. | V22: ALCANAR
E23: EQUIP TÈCNIC ATENEU | P23: EQUIP TÈCNIC ATENEU | T23: 4 | U23: 4 f Altres accions dins del servei d'acompanyament. | V23: ALCANÓ
T24: 5 | U24: 5 a Generar espai d'intercooperació i treball en xarxa dins del territori. | V24: ALCARRÀS
T25: 5 | U25: 5 b Incorporació d'empreses a l'ateneu cooperatiu i assemblea. | V25: ALCOLETGE
T26: 5 | U26: 5 c Treball en xarxa amb altres ateneus (reunions i iniciatives conjuntes). | V26: ALCOVER
T27: 5 | U27: 5 d Altres accions dins del servei de facilitació. | V27: ALDEA, L'
T28: 6 | U28: 6 a Espai físic per proporcional informació sobre ESS a diferents públics. | V28: ALDOVER
T29: 6 | U29: 6 b Difusió del punt o punts d'informació. | V29: ALEIXAR, L'
T30: 7 | U30: 7 a Serveis complementaris. | V30: ALELLA
V31: ALFARA DE CARLES
V32: ALFARRÀS
V33: ALFÉS
V34: ALFORJA
V35: ALGERRI
V36: ALGUAIRE
V37: ALINS
V38: ALIÓ
V39: ALMACELLES
V40: ALMATRET
V41: ALMENAR
V42: ALMOSTER
... V948: XERTA
